
BEGIN:VCALENDAR
VERSION:2.0
PRODID:-//Delaware Interscholastic Athletic Association - ECPv6.15.3//NONSGML v1.0//EN
CALSCALE:GREGORIAN
METHOD:PUBLISH
X-WR-CALNAME:Delaware Interscholastic Athletic Association
X-ORIGINAL-URL:https://education.delaware.gov/diaa/
X-WR-CALDESC:Events for Delaware Interscholastic Athletic Association
REFRESH-INTERVAL;VALUE=DURATION:PT1H
X-Robots-Tag:noindex
X-PUBLISHED-TTL:PT1H
BEGIN:VTIMEZONE
TZID:America/New_York
BEGIN:DAYLIGHT
TZOFFSETFROM:-0500
TZOFFSETTO:-0400
TZNAME:EDT
DTSTART:20220313T070000
END:DAYLIGHT
BEGIN:STANDARD
TZOFFSETFROM:-0400
TZOFFSETTO:-0500
TZNAME:EST
DTSTART:20221106T060000
END:STANDARD
END:VTIMEZONE
BEGIN:VEVENT
DTSTART;TZID=America/New_York:20221101T130000
DTEND;TZID=America/New_York:20221101T130500
DTSTAMP:20260424T043924
CREATED:20221021T175613Z
LAST-MODIFIED:20221021T175613Z
UID:10353-1667307600-1667307900@education.delaware.gov
SUMMARY:DIAA Rules and Regulations Committee Meeting
DESCRIPTION:DIAA Rules and Regulations Committee Meeting
URL:https://education.delaware.gov/diaa/event/diaa-rules-and-regulations-committee-meeting-4/
LOCATION:DE
END:VEVENT
BEGIN:VEVENT
DTSTART;TZID=America/New_York:20221101T230000
DTEND;TZID=America/New_York:20221101T230500
DTSTAMP:20260424T043924
CREATED:20221021T171413Z
LAST-MODIFIED:20221021T171413Z
UID:10351-1667343600-1667343900@education.delaware.gov
SUMMARY:DIAA Officials Committee Meeting
DESCRIPTION:DIAA Officials Committee Meeting
URL:https://education.delaware.gov/diaa/event/diaa-officials-committee-meeting/
LOCATION:DE
END:VEVENT
BEGIN:VEVENT
DTSTART;VALUE=DATE:20221104
DTEND;VALUE=DATE:20221106
DTSTAMP:20260424T043924
CREATED:20221012T215911Z
LAST-MODIFIED:20221012T215911Z
UID:10293-1667534400-1667620799@education.delaware.gov
SUMMARY:10th Annual Central Delaware MSVB Event (DE)
DESCRIPTION:Invited Schools: \nAll DIAA middle schools \n  \n10/12/22
URL:https://education.delaware.gov/diaa/event/10th-annual-central-delaware-msvb-event-de/
LOCATION:DE
CATEGORIES:Sanctioned Events,Volleyball
END:VEVENT
BEGIN:VEVENT
DTSTART;TZID=America/New_York:20221104T130000
DTEND;TZID=America/New_York:20221104T130000
DTSTAMP:20260424T043924
CREATED:20221021T170036Z
LAST-MODIFIED:20221021T170036Z
UID:10330-1667566800-1667566800@education.delaware.gov
SUMMARY:DIAA Field Hockey Committee Meeting
DESCRIPTION:DIAA Field Hockey Committee Meeting
URL:https://education.delaware.gov/diaa/event/diaa-field-hockey-committee-meeting/
LOCATION:DE
END:VEVENT
BEGIN:VEVENT
DTSTART;TZID=America/New_York:20221104T130000
DTEND;TZID=America/New_York:20221104T130500
DTSTAMP:20260424T043924
CREATED:20221021T170210Z
LAST-MODIFIED:20221021T170210Z
UID:10332-1667566800-1667567100@education.delaware.gov
SUMMARY:DIAA Boys Soccer Committee Meeting
DESCRIPTION:DIAA Boys Soccer Committee Meeting
URL:https://education.delaware.gov/diaa/event/diaa-boys-soccer-committee-meeting-2/
LOCATION:DE
END:VEVENT
BEGIN:VEVENT
DTSTART;TZID=America/New_York:20221104T130000
DTEND;TZID=America/New_York:20221104T130500
DTSTAMP:20260424T043924
CREATED:20221021T170458Z
LAST-MODIFIED:20221021T170458Z
UID:10338-1667566800-1667567100@education.delaware.gov
SUMMARY:DIAA Field Hockey Committee Meeting
DESCRIPTION:DIAA Field Hockey Committee Meeting
URL:https://education.delaware.gov/diaa/event/diaa-field-hockey-committee-meeting-2/
LOCATION:DE
END:VEVENT
BEGIN:VEVENT
DTSTART;VALUE=DATE:20221105
DTEND;VALUE=DATE:20221107
DTSTAMP:20260424T043924
CREATED:20221026T185504Z
LAST-MODIFIED:20221026T185504Z
UID:10355-1667620800-1667707199@education.delaware.gov
SUMMARY:New Castle County Championships - Cross Country (DE)
DESCRIPTION:Invited Schools: \nAI duPont \nAppoquinimink \nArchmere \nBrandywine \nCaravel \nCentreville Layton \nCharter Wilmington \nChristiana \n  \nposted 10/26/22
URL:https://education.delaware.gov/diaa/event/new-castle-county-championships-cross-country-de/
LOCATION:DE
CATEGORIES:Cross Country,Sanctioned Events
END:VEVENT
BEGIN:VEVENT
DTSTART;TZID=America/New_York:20221105T120000
DTEND;TZID=America/New_York:20221105T210000
DTSTAMP:20260424T043924
CREATED:20220907T062443Z
LAST-MODIFIED:20220907T063055Z
UID:9941-1667649600-1667682000@education.delaware.gov
SUMMARY:HAC Cross Country Championship (DE)
DESCRIPTION:DIAA Invited Schools: \nSmyrna \nDover \nCaesar Rodney \nLake Forest \nEarly College School \nMilford \nWoodbridge \nLaurel \nSeaford \nDelmar \nSussex Academy \nSussex Tech \nSussex Central \nIndian River \nCape \nPolytech \n  \nposted 9/7/22
URL:https://education.delaware.gov/diaa/event/hac-cross-country-championship-de/
LOCATION:DE
CATEGORIES:Cross Country,Sanctioned Events
END:VEVENT
BEGIN:VEVENT
DTSTART;VALUE=DATE:20221107
DTEND;VALUE=DATE:20221109
DTSTAMP:20260424T043924
CREATED:20220726T025132Z
LAST-MODIFIED:20220726T030632Z
UID:9704-1667797200-1667883599@education.delaware.gov
SUMMARY:Winter Sport Season Practice Starts – High/Middle School
DESCRIPTION:Winter Sport Season Practice Starts – High/Middle School \nNovember 7\, 2022
URL:https://education.delaware.gov/diaa/event/winter-sport-season-practice-starts-high-middle-school/
LOCATION:DE
END:VEVENT
BEGIN:VEVENT
DTSTART;TZID=America/New_York:20221013T130000
DTEND;TZID=America/New_York:20221013T160000
DTSTAMP:20260424T043924
CREATED:20220902T161255Z
LAST-MODIFIED:20230804T153009Z
UID:9907-1665666000-1665676800@education.delaware.gov
SUMMARY:DIAA Board of Directors Meeting
DESCRIPTION:DIAA Board of Directors Meeting
URL:https://education.delaware.gov/diaa/event/diaa-board-of-directors-meeting-12/
LOCATION:DE
END:VEVENT
BEGIN:VEVENT
DTSTART;TZID=America/New_York:20221111T140000
DTEND;TZID=America/New_York:20221111T140500
DTSTAMP:20260424T043924
CREATED:20221021T170303Z
LAST-MODIFIED:20221021T170303Z
UID:10334-1668175200-1668175500@education.delaware.gov
SUMMARY:DIAA Unified Sports Committee Meeting
DESCRIPTION:DIAA Unified Sports Committee Meeting
URL:https://education.delaware.gov/diaa/event/diaa-unified-sports-committee-meeting/
LOCATION:DE
END:VEVENT
BEGIN:VEVENT
DTSTART;TZID=America/New_York:20221113T140000
DTEND;TZID=America/New_York:20221113T140500
DTSTAMP:20260424T043924
CREATED:20221021T170346Z
LAST-MODIFIED:20221021T170346Z
UID:10336-1668348000-1668348300@education.delaware.gov
SUMMARY:DIAA Football Committee Meeting
DESCRIPTION:DIAA Football Committee Meeting
URL:https://education.delaware.gov/diaa/event/diaa-football-committee-meeting-3/
LOCATION:DE
END:VEVENT
BEGIN:VEVENT
DTSTART;VALUE=DATE:20221116
DTEND;VALUE=DATE:20221118
DTSTAMP:20260424T043924
CREATED:20221116T055159Z
LAST-MODIFIED:20221116T055159Z
UID:10517-1668574800-1668661199@education.delaware.gov
SUMMARY:Coach Saint Invitational - Indoor Track (NY) NFHS
DESCRIPTION:DIAA Invited Schools: \n\n\nAI duPont\n50 Hillside Rd\, Wilmington\, DE 19807-2297\nVarsity\n\n\n\n\n\nAppoquinimink\n1080 Bunker Hill Road\, Middletown\, DE 19709\nVarsity\n\n\n\n\n\nArchmere Academy\n3600 Philadelphiapike\, Claymont\, DE 19703-3108\nVarsity\n\n\n\n\n\nCaesar Rodney\n239 Old North Rd\, Camden Wyoming\, DE 19934-1248\nVarsity\n\n\n\n\n\nCape Henlopen\n1250 Kings Hwy\, Lewes\, DE 19958-1798\nVarsity\n\n\n\n\n\nCaravel Academy\n2801 Del Laws Rd\, Bear\, DE 19701-1799\nVarsity\n\n\n\n\n\nCharter School of Wilmington\n100 North DuPont Road\, Wilmington\, DE 19807\nVarsity\n\n\n\n\n\nConcord\n2501 Ebright Rd\, Wilmington\, DE 19810-1198\nVarsity\n\n\n\n\n\nConrad Schools of Science\n201 Jackson Ave.\, Wilmington\, DE 19804\nVarsity\n\n\n\n\n\nDelaware Military Academy\n112 Middleboro Rd\, Wilmington\, DE 19804\nVarsity\n\n\n\n\n\nDelcastle Vo-Tech\n1417 Newport Rd\, Wilmington\, DE 19804-3499\nVarsity\n\n\n\n\n\nDover\nOne Dover High Drive\, Dover\, DE 19904-2468\nVarsity\n\n\n\n\n\nGlasgow\n1901 S College Ave\, Newark\, DE 19702\nVarsity\n\n\n\n\n\nHoward Of Technology\n401 E 12TH St\, Wilmington\, DE 19801-3403\nVarsity\n\n\n\n\n\nMiddletown\n120 Silver Lake Rd\, Middletown\, DE 19709-1297\nVarsity\n\n\n\n\n\nMt. Pleasant\n5201 Washington Street Ext\, Wilmington\, DE 19809\nVarsity\n\n\n\n\n\nNewark\n750 E Delaware Ave\, Newark\, DE 19711\nVarsity\n\n\n\n\n\nOdessa\n570 Tony Marchio Dr\, Townsend\, DE 19734\nVarsity\n\n\n\n\n\nPadua\n905 N Broom St\, Wilmington\, DE 19806\nVarsity\n\n\n\n\n\nSalesianum\n1801 N Broom St\, Wilmington\, DE 19802-3891\nVarsity\n\n\n\n\n\nSt Georges Technical\n555 Hyetts Corner Road\, Middletown\, DE 19709\nVarsity\n\n\n\n\n\nSt. Mark’s\n2501 Pike Creek Rd\, Wilmington\, DE 19808-3600\nVarsity\n\n\n\n\n\nSussex Tech\n17099 County Seat Hwy\, Georgetown\, DE 19947-0351\nVarsity\n\n\n\n\n\nTatnall\n1501 Barley Mill Rd\, Wilmington\, DE 19807-2299\nVarsity\n\n\n\n\n\nThomas Mckean\n301 Mckennans Church Rd\, Wilmington\, DE 19808-1398\nVarsity\n\n\n\n\n\nUrsuline Academy (DE)\n1106 Pennsylvania Avenue\, Wilmington\, DE 19806-4398\nVarsity\n\n\n\n\n\nWilliam Penn\n713 E Basin Rd\, New Castle\, DE 19720-4295\nVarsity\n\n\n\n\n\nWilmington Christian\n825 Loveville Rd\, Hockessin\, DE 19707-9508\nVarsity\n\n\n\nposted 11/16/22
URL:https://education.delaware.gov/diaa/event/coach-saint-invitational-indoor-track-ny-nfhs-2/
LOCATION:DE
CATEGORIES:Indoor Track,Sanctioned Events
END:VEVENT
BEGIN:VEVENT
DTSTART;TZID=America/New_York:20221128T140000
DTEND;TZID=America/New_York:20221128T140500
DTSTAMP:20260424T043924
CREATED:20221021T170650Z
LAST-MODIFIED:20221021T170650Z
UID:10340-1669644000-1669644300@education.delaware.gov
SUMMARY:DIAA Sports Medicine Advisory Committee Meeting
DESCRIPTION:DIAA Sports Medicine Advisory Committee Meeting
URL:https://education.delaware.gov/diaa/event/diaa-sports-medicine-advisory-committee-meeting-4/
LOCATION:DE
END:VEVENT
BEGIN:VEVENT
DTSTART;VALUE=DATE:20221130
DTEND;VALUE=DATE:20221202
DTSTAMP:20260424T043924
CREATED:20220726T025010Z
LAST-MODIFIED:20220726T030339Z
UID:9702-1669784400-1669870799@education.delaware.gov
SUMMARY:1st Day of Competition Winter Sport Season - High/Middle School
DESCRIPTION:1st Day of Competition Winter Sport Season – High/Middle School \nNovember 30\, 2022
URL:https://education.delaware.gov/diaa/event/1st-day-of-competition-winter-sport-season-high-middle-school/
LOCATION:DE
END:VEVENT
END:VCALENDAR