
BEGIN:VCALENDAR
VERSION:2.0
PRODID:-//Delaware Interscholastic Athletic Association - ECPv6.15.3//NONSGML v1.0//EN
CALSCALE:GREGORIAN
METHOD:PUBLISH
X-WR-CALNAME:Delaware Interscholastic Athletic Association
X-ORIGINAL-URL:https://education.delaware.gov/diaa/
X-WR-CALDESC:Events for Delaware Interscholastic Athletic Association
REFRESH-INTERVAL;VALUE=DURATION:PT1H
X-Robots-Tag:noindex
X-PUBLISHED-TTL:PT1H
BEGIN:VTIMEZONE
TZID:UTC
BEGIN:STANDARD
TZOFFSETFROM:+0000
TZOFFSETTO:+0000
TZNAME:UTC
DTSTART:20210101T050000
END:STANDARD
END:VTIMEZONE
BEGIN:VEVENT
DTSTART;VALUE=DATE:20211113
DTEND;VALUE=DATE:20211115
DTSTAMP:20260421T165902
CREATED:20210805T183250Z
LAST-MODIFIED:20210805T183250Z
UID:5682-1636779600-1636865999@education.delaware.gov
SUMMARY:Last date of competition for Football
DESCRIPTION:
URL:https://education.delaware.gov/diaa/event/last-date-of-competition-for-football/
LOCATION:DE
CATEGORIES:Football
END:VEVENT
BEGIN:VEVENT
DTSTART;TZID=UTC:20211114T140000
DTEND;TZID=UTC:20211114T140500
DTSTAMP:20260421T165902
CREATED:20210805T183305Z
LAST-MODIFIED:20211110T001131Z
UID:5686-1636898400-1636898700@education.delaware.gov
SUMMARY:Football Committee Meeting
DESCRIPTION:AGENDA \n9AM – This is an in-person meeting. Mask are required in the building. \nLocation:\n\nConference Room A – B\nCollette Resource Center\, 35 Commerce Way\, Ste 1\, Dover DE 19904\n\n\nPublic Comments are welcomed. Please notify us at least 24 hours in advance at diaa@doe.k12.de.us.
URL:https://education.delaware.gov/diaa/event/football-committee-meeting/
LOCATION:Colette Education Resource Center\, 35 Commerce Way\, Suite 1\, Dover\, DE\, 19904
CATEGORIES:Committee Meeting,Football,Meeting
ORGANIZER;CN="DIAA":MAILTO:diaa@doe.k12.de.us
END:VEVENT
BEGIN:VEVENT
DTSTART;VALUE=DATE:20211118
DTEND;VALUE=DATE:20211120
DTSTAMP:20260421T165902
CREATED:20210805T183320Z
LAST-MODIFIED:20210805T183320Z
UID:5694-1637211600-1637297999@education.delaware.gov
SUMMARY:Last date of competition for Unified Flag Football
DESCRIPTION:
URL:https://education.delaware.gov/diaa/event/last-date-of-competition-for-unified-flag-football/
LOCATION:DE
CATEGORIES:Unified,Unified Football
END:VEVENT
BEGIN:VEVENT
DTSTART;TZID=UTC:20211119T050000
DTEND;TZID=UTC:20211120T050000
DTSTAMP:20260421T165902
CREATED:20210805T183320Z
LAST-MODIFIED:20210805T183320Z
UID:5695-1637298000-1637384400@education.delaware.gov
SUMMARY:Football Playoffs
DESCRIPTION:
URL:https://education.delaware.gov/diaa/event/football-playoffs/
LOCATION:DE
CATEGORIES:Football
END:VEVENT
BEGIN:VEVENT
DTSTART;TZID=UTC:20211122T140000
DTEND;TZID=UTC:20211122T140500
DTSTAMP:20260421T165902
CREATED:20211116T055804Z
LAST-MODIFIED:20211116T055804Z
UID:7515-1637589600-1637589900@education.delaware.gov
SUMMARY:DIAA Unified Sports Committee Meeting
DESCRIPTION:AGENDA – https://publicmeetings.delaware.gov/#/meeting/70445 \nUnified Football Seeding Meeting\n\n* In accordance with 29 Del. C. 10006A(c)\, the DIAA Unified Sports Committee meeting will be held virtually by video conference call.\n\nPublic Comments are welcomed. Please notify us at least 24 hours in advance at diaa@doe.k12.de.us.\n\nmeeting join info:\n\n\nThe meeting can also be accessed by phone at +1-415-655-0001.\nThe meeting number (access code) is 2620 772 3822 (no password required)\nhttps://de-doe.webex.com/de-doe/j.php?MTID=m49e1f880a219b4c1a1a29e1aec8b6487\n\n 
URL:https://education.delaware.gov/diaa/event/unified-football11222021/
LOCATION:DE
CATEGORIES:Unified,Unified Football
ORGANIZER;CN="DIAA":MAILTO:diaa@doe.k12.de.us
END:VEVENT
BEGIN:VEVENT
DTSTART;VALUE=DATE:20211126
DTEND;VALUE=DATE:20211129
DTSTAMP:20260421T165902
CREATED:20210805T183322Z
LAST-MODIFIED:20211125T002718Z
UID:5700-1637902800-1638075599@education.delaware.gov
SUMMARY:Football Quarterfinals
DESCRIPTION:DIAA FOOTBALL CHAMPIONSHIP BRACKETS
URL:https://education.delaware.gov/diaa/event/football-quarterfinals/
LOCATION:DE
CATEGORIES:Football
END:VEVENT
BEGIN:VEVENT
DTSTART;TZID=UTC:20211130T050000
DTEND;TZID=UTC:20211130T050000
DTSTAMP:20260421T165902
CREATED:20210805T183337Z
LAST-MODIFIED:20210805T183337Z
UID:5701-1638248400-1638248400@education.delaware.gov
SUMMARY:Unified Flag Football Quarterfinals
DESCRIPTION:
URL:https://education.delaware.gov/diaa/event/unified-flag-football-quarterfinals/
LOCATION:DE
CATEGORIES:Unified,Unified Football
END:VEVENT
END:VCALENDAR