
BEGIN:VCALENDAR
VERSION:2.0
PRODID:-//Delaware Interscholastic Athletic Association - ECPv6.15.3//NONSGML v1.0//EN
CALSCALE:GREGORIAN
METHOD:PUBLISH
X-ORIGINAL-URL:https://education.delaware.gov/diaa/
X-WR-CALDESC:Events for Delaware Interscholastic Athletic Association
REFRESH-INTERVAL;VALUE=DURATION:PT1H
X-Robots-Tag:noindex
X-PUBLISHED-TTL:PT1H
BEGIN:VTIMEZONE
TZID:UTC
BEGIN:STANDARD
TZOFFSETFROM:+0000
TZOFFSETTO:+0000
TZNAME:UTC
DTSTART:20210101T050000
END:STANDARD
END:VTIMEZONE
BEGIN:VEVENT
DTSTART;TZID=UTC:20211105T130000
DTEND;TZID=UTC:20211105T130500
DTSTAMP:20260423T185003
CREATED:20210805T183209Z
LAST-MODIFIED:20211030T233655Z
UID:5668-1636117200-1636117500@education.delaware.gov
SUMMARY:Field Hockey Committee Meeting
DESCRIPTION:AGENDA \n9am \nThis is an in-person meeting. Masks are required in the building.\n\n\nLOCATION:\nConference Room C\nCollette Resource Center 35 Commerce Way\, Ste 1\, Dover DE 19904
URL:https://education.delaware.gov/diaa/event/field-hockey-committee-meeting/
LOCATION:Colette Education Resource Center\, 35 Commerce Way\, Suite 1\, Dover\, DE\, 19904
CATEGORIES:Committee Meeting,Field Hockey,Meeting
ORGANIZER;CN="DIAA":MAILTO:diaa@doe.k12.de.us
END:VEVENT
BEGIN:VEVENT
DTSTART;TZID=UTC:20211105T130000
DTEND;TZID=UTC:20211105T130500
DTSTAMP:20260423T185003
CREATED:20210805T183209Z
LAST-MODIFIED:20211030T233901Z
UID:5669-1636117200-1636117500@education.delaware.gov
SUMMARY:Boys Soccer Committee Meeting
DESCRIPTION:AGENDA \nThis is an in-person meeting. Mask are required in the building.\n\nLOCATION:\nSmyrna High School\, 500 Duck Creek Parkway\, Smyrna\, DE 19977
URL:https://education.delaware.gov/diaa/event/boys-soccer-committee-meeting/
LOCATION:Smyrna High School
CATEGORIES:Boys Soccer,Committee Meeting,Meeting
ORGANIZER;CN="DIAA":MAILTO:diaa@doe.k12.de.us
END:VEVENT
BEGIN:VEVENT
DTSTART;VALUE=DATE:20211106
DTEND;VALUE=DATE:20211108
DTSTAMP:20260423T185003
CREATED:20211018T195200Z
LAST-MODIFIED:20211018T195200Z
UID:7189-1636171200-1636257599@education.delaware.gov
SUMMARY:New Castle County Championships (DE)
DESCRIPTION:Invited Schools: \nAI duPont HS \nAppoquinimink HS \nArchmere Academy \nBrandywine HS \nCaravel Academy \nCentreville Layton School \nCharter School of Wilmington \nChristiana HS \nConcord HS \nConrad Schools of Science \nDelaware Military Academy \nDelcastle Tech HS \nDickinson School \nHodgson Vo-Tech HS \nHoward HS \nMcKean HS \nMiddletown HS \nMount Pleasant HS \nMOT Charter \nNewark HS \nNewark Charter School \nOdessa HS \nSalesianum School \nSanford School \nSt. Andrew’s School \nSt. Elizabeth School \nSt. Georges Tech HS \nSt. Mark’s HS \nTatnall School \nTower Hill School \nWilliam Penn HS \nWilmington Christian School \nWilmington Friends School \nPadua Academy \nUrsuline Academy \nOdyssey Charter School \n 
URL:https://education.delaware.gov/diaa/event/new-castle-county-championships-de/
LOCATION:Winterthur Estate
CATEGORIES:Cross Country,Sanctioned Events
END:VEVENT
BEGIN:VEVENT
DTSTART;VALUE=DATE:20211108
DTEND;VALUE=DATE:20211110
DTSTAMP:20260423T185003
CREATED:20210805T183222Z
LAST-MODIFIED:20210805T183222Z
UID:5671-1636347600-1636433999@education.delaware.gov
SUMMARY:First date of winter sports practice
DESCRIPTION:
URL:https://education.delaware.gov/diaa/event/first-date-of-winter-sports-practice/
CATEGORIES:DIAA
END:VEVENT
BEGIN:VEVENT
DTSTART;TZID=UTC:20211108T230000
DTEND;TZID=UTC:20211108T230500
DTSTAMP:20260423T185003
CREATED:20211102T235157Z
LAST-MODIFIED:20211102T235829Z
UID:7357-1636412400-1636412700@education.delaware.gov
SUMMARY:DIAA Sports Medicine Advisory Committee Meeting
DESCRIPTION:Meeting Agenda \nVirtual Meeting \nThis is a WebEx Virtual Meeting that you may join via computer\, tablet or smartphone.\nPublic Comments are welcomed. Please notify us at least 24 hours in advance at diaa@doe.k12.de.us. \nJoin from the meeting link\nhttps://de-doe.webex.com/de-doe/j.php?MTID=m0c2e505bd4cb3b1f0ecc86a5d4a90f8f  \nJoin by meeting number\nMeeting number (access code): 2622 444 1618\nMeeting password: mRu6yKvBu65 \nJoin by phone\n+1-415-655-0001 US Toll
URL:https://education.delaware.gov/diaa/event/diaa-sports-medicine-advisory-committee-meeting-3/
CATEGORIES:Committee Meeting,Sports Medicine
ORGANIZER;CN="DIAA":MAILTO:diaa@doe.k12.de.us
END:VEVENT
BEGIN:VEVENT
DTSTART;TZID=UTC:20211109T050000
DTEND;TZID=UTC:20211109T050000
DTSTAMP:20260423T185003
CREATED:20210805T183222Z
LAST-MODIFIED:20210805T183222Z
UID:5672-1636434000-1636434000@education.delaware.gov
SUMMARY:DII Field Hockey 1st Round
DESCRIPTION:
URL:https://education.delaware.gov/diaa/event/dii-field-hockey-1st-round/
CATEGORIES:Field Hockey
END:VEVENT
BEGIN:VEVENT
DTSTART;VALUE=DATE:20211109
DTEND;VALUE=DATE:20211111
DTSTAMP:20260423T185003
CREATED:20210805T183222Z
LAST-MODIFIED:20211109T235256Z
UID:5673-1636434000-1636520399@education.delaware.gov
SUMMARY:Volleyball Quarterfinals
DESCRIPTION:VOLLEYBALL BRACKET
URL:https://education.delaware.gov/diaa/event/volleyball-quarterfinals/
CATEGORIES:Volleyball
END:VEVENT
BEGIN:VEVENT
DTSTART;TZID=UTC:20211109T230000
DTEND;TZID=UTC:20211110T020000
DTSTAMP:20260423T185003
CREATED:20210805T183222Z
LAST-MODIFIED:20211109T235153Z
UID:5674-1636498800-1636509600@education.delaware.gov
SUMMARY:DII Boys Soccer 1st round
DESCRIPTION:DIAA  BOYS SOCCER BRACKET
URL:https://education.delaware.gov/diaa/event/dii-boys-soccer-1st-round/
CATEGORIES:Boys Soccer
END:VEVENT
BEGIN:VEVENT
DTSTART;VALUE=DATE:20211110
DTEND;VALUE=DATE:20211112
DTSTAMP:20260423T185003
CREATED:20210805T183222Z
LAST-MODIFIED:20211109T235441Z
UID:5675-1636520400-1636606799@education.delaware.gov
SUMMARY:D1 Boys Soccer Quarterfinals
DESCRIPTION:BOYS SOCCER BRACKET
URL:https://education.delaware.gov/diaa/event/di-boys-soc-quarterfinals/
CATEGORIES:Boys Soccer
END:VEVENT
BEGIN:VEVENT
DTSTART;VALUE=DATE:20211111
DTEND;VALUE=DATE:20211113
DTSTAMP:20260423T185003
CREATED:20210805T183237Z
LAST-MODIFIED:20211109T235711Z
UID:5680-1636606800-1636693199@education.delaware.gov
SUMMARY:Veterans Day
DESCRIPTION:
URL:https://education.delaware.gov/diaa/event/veterans-day/
CATEGORIES:Holiday
END:VEVENT
BEGIN:VEVENT
DTSTART;VALUE=DATE:20211111
DTEND;VALUE=DATE:20211113
DTSTAMP:20260423T185003
CREATED:20210805T183250Z
LAST-MODIFIED:20210805T183250Z
UID:5681-1636606800-1636693199@education.delaware.gov
SUMMARY:Last date of competition for Cross Country
DESCRIPTION:
URL:https://education.delaware.gov/diaa/event/last-date-of-competition-for-cross-country/
CATEGORIES:Cross Country
END:VEVENT
BEGIN:VEVENT
DTSTART;TZID=UTC:20211111T190000
DTEND;TZID=UTC:20211111T210000
DTSTAMP:20260423T185003
CREATED:20210805T183237Z
LAST-MODIFIED:20211109T235644Z
UID:5677-1636657200-1636664400@education.delaware.gov
SUMMARY:DI Field Hockey Quarterfinals
DESCRIPTION:FIELD HOCKEY BRACKET 
URL:https://education.delaware.gov/diaa/event/di-field-hockey-quarterfinals/
CATEGORIES:Field Hockey
END:VEVENT
BEGIN:VEVENT
DTSTART;TZID=UTC:20211111T220000
DTEND;TZID=UTC:20211112T023000
DTSTAMP:20260423T185003
CREATED:20210805T183237Z
LAST-MODIFIED:20211109T235957Z
UID:5678-1636668000-1636684200@education.delaware.gov
SUMMARY:Volleyball Semifinals
DESCRIPTION:@ Saint Mark’s High School \nmatch times listed on bracket \nVOLLEYBALL BRACKET 
URL:https://education.delaware.gov/diaa/event/volleyball-semifinals/
LOCATION:Saint Mark’s High School\, 2501 Pike Creek Road\, Wilmington\, DE\, 19808\, United States
CATEGORIES:Volleyball
ORGANIZER;CN="DIAA":MAILTO:diaa@doe.k12.de.us
END:VEVENT
BEGIN:VEVENT
DTSTART;VALUE=DATE:20211113
DTEND;VALUE=DATE:20211115
DTSTAMP:20260423T185003
CREATED:20210805T183250Z
LAST-MODIFIED:20210805T183250Z
UID:5682-1636779600-1636865999@education.delaware.gov
SUMMARY:Last date of competition for Football
DESCRIPTION:
URL:https://education.delaware.gov/diaa/event/last-date-of-competition-for-football/
CATEGORIES:Football
END:VEVENT
BEGIN:VEVENT
DTSTART;VALUE=DATE:20211113
DTEND;VALUE=DATE:20211115
DTSTAMP:20260423T185003
CREATED:20210805T183250Z
LAST-MODIFIED:20211110T000058Z
UID:5683-1636779600-1636865999@education.delaware.gov
SUMMARY:DII Boys Soccer Quarterfinals
DESCRIPTION:BOYS SOCCER BRACKET
URL:https://education.delaware.gov/diaa/event/dii-boys-soccer-quarterfinals/
CATEGORIES:Boys Soccer
END:VEVENT
BEGIN:VEVENT
DTSTART;VALUE=DATE:20211113
DTEND;VALUE=DATE:20211115
DTSTAMP:20260423T185003
CREATED:20210805T183250Z
LAST-MODIFIED:20211110T000841Z
UID:5685-1636779600-1636865999@education.delaware.gov
SUMMARY:Cross Country Finals
DESCRIPTION:View live meet results: \n  \nhttps://de.milesplit.com/meets/449994-diaa-cross-country-state-championships-2021#.YYrG2L3MKXQ
URL:https://education.delaware.gov/diaa/event/cross-country-finals/
LOCATION:Brandwine Creek State Park\, 41 Adams Dam Rd\, Wilmington\, DE\, 19807\, United States
CATEGORIES:Cross Country
ORGANIZER;CN="DIAA":MAILTO:diaa@doe.k12.de.us
END:VEVENT
BEGIN:VEVENT
DTSTART;TZID=UTC:20211113T160000
DTEND;TZID=UTC:20211113T193000
DTSTAMP:20260423T185003
CREATED:20210805T183250Z
LAST-MODIFIED:20211110T000403Z
UID:5684-1636819200-1636831800@education.delaware.gov
SUMMARY:DII Field Hockey Quarterfinals
DESCRIPTION:FIELD HOCKEY BRACKET 
URL:https://education.delaware.gov/diaa/event/dii-field-hockey-quarterfinals/
CATEGORIES:Field Hockey
END:VEVENT
BEGIN:VEVENT
DTSTART;TZID=UTC:20211114T140000
DTEND;TZID=UTC:20211114T140500
DTSTAMP:20260423T185003
CREATED:20210805T183305Z
LAST-MODIFIED:20211110T001131Z
UID:5686-1636898400-1636898700@education.delaware.gov
SUMMARY:Football Committee Meeting
DESCRIPTION:AGENDA \n9AM – This is an in-person meeting. Mask are required in the building. \nLocation:\n\nConference Room A – B\nCollette Resource Center\, 35 Commerce Way\, Ste 1\, Dover DE 19904\n\n\nPublic Comments are welcomed. Please notify us at least 24 hours in advance at diaa@doe.k12.de.us.
URL:https://education.delaware.gov/diaa/event/football-committee-meeting/
LOCATION:Colette Education Resource Center\, 35 Commerce Way\, Suite 1\, Dover\, DE\, 19904
CATEGORIES:Committee Meeting,Football,Meeting
ORGANIZER;CN="DIAA":MAILTO:diaa@doe.k12.de.us
END:VEVENT
BEGIN:VEVENT
DTSTART;TZID=UTC:20211115T223000
DTEND;TZID=UTC:20211116T003000
DTSTAMP:20260423T185003
CREATED:20210805T183305Z
LAST-MODIFIED:20211113T094227Z
UID:5687-1637015400-1637022600@education.delaware.gov
SUMMARY:Volleyball Finals
DESCRIPTION:DIAA VOLLEYBALL BRACKET  \n\nDIAA 2021 Volleyball Finals Set in Rematch of 2020
URL:https://education.delaware.gov/diaa/event/volleyball-finals/
LOCATION:University of Delaware
CATEGORIES:Volleyball
ORGANIZER;CN="DIAA":MAILTO:diaa@doe.k12.de.us
END:VEVENT
BEGIN:VEVENT
DTSTART;VALUE=DATE:20211116
DTEND;VALUE=DATE:20211118
DTSTAMP:20260423T185003
CREATED:20210805T183320Z
LAST-MODIFIED:20211116T060131Z
UID:5691-1637038800-1637125199@education.delaware.gov
SUMMARY:DI Boys Soccer Semi-Finals
DESCRIPTION:https://gofan.co/app/school/DIAA \n  \nDIAA BOYS SOCCER 
URL:https://education.delaware.gov/diaa/event/di-boys-soccer-semi-finals-possible-date-2/
CATEGORIES:Boys Soccer
END:VEVENT
BEGIN:VEVENT
DTSTART;TZID=UTC:20211116T220000
DTEND;TZID=UTC:20211117T020000
DTSTAMP:20260423T185003
CREATED:20210805T183305Z
LAST-MODIFIED:20211109T235010Z
UID:5689-1637100000-1637114400@education.delaware.gov
SUMMARY:DI Field Hockey Semi-Finals
DESCRIPTION:at DE Turf \nField Hockey Bracket
URL:https://education.delaware.gov/diaa/event/di-field-hockey-semi-finals/
LOCATION:DE Turf Sports Turf Complex\, 4000 Bay Rd\, Frederica\, DE\, 19946\, United States
CATEGORIES:Field Hockey
ORGANIZER;CN="DIAA":MAILTO:diaa@doe.k12.de.us
END:VEVENT
BEGIN:VEVENT
DTSTART;TZID=UTC:20211117T050000
DTEND;TZID=UTC:20211117T050000
DTSTAMP:20260423T185003
CREATED:20210805T183320Z
LAST-MODIFIED:20210805T183320Z
UID:5693-1637125200-1637125200@education.delaware.gov
SUMMARY:DII Field Hockey Semi-Finals
DESCRIPTION:
URL:https://education.delaware.gov/diaa/event/dii-field-hockey-semi-finals/
CATEGORIES:Field Hockey
END:VEVENT
BEGIN:VEVENT
DTSTART;VALUE=DATE:20211117
DTEND;VALUE=DATE:20211119
DTSTAMP:20260423T185003
CREATED:20210805T183320Z
LAST-MODIFIED:20211116T060345Z
UID:5692-1637125200-1637211599@education.delaware.gov
SUMMARY:DII Boys Soccer Semi-Finals
DESCRIPTION:https://gofan.co/app/school/DIAA \n  \nDIAA BOYS SOCCER 
URL:https://education.delaware.gov/diaa/event/dii-boys-soccer-semi-finals-possible-date-2/
CATEGORIES:Boys Soccer
END:VEVENT
BEGIN:VEVENT
DTSTART;VALUE=DATE:20211118
DTEND;VALUE=DATE:20211120
DTSTAMP:20260423T185003
CREATED:20210805T183320Z
LAST-MODIFIED:20210805T183320Z
UID:5694-1637211600-1637297999@education.delaware.gov
SUMMARY:Last date of competition for Unified Flag Football
DESCRIPTION:
URL:https://education.delaware.gov/diaa/event/last-date-of-competition-for-unified-flag-football/
CATEGORIES:Unified,Unified Football
END:VEVENT
BEGIN:VEVENT
DTSTART;TZID=UTC:20211118T140000
DTEND;TZID=UTC:20211118T140500
DTSTAMP:20260423T185003
CREATED:20210805T183237Z
LAST-MODIFIED:20211116T054345Z
UID:5679-1637244000-1637244300@education.delaware.gov
SUMMARY:DIAA Board of Directors Meeting
DESCRIPTION:AGENDA \n  \nThis is a WebEx Meeting and you must register prior to attending; the link to register is provided below.  This is a WebEx webinar meeting; you may join via your computer\, tablet or smartphone. \nhttps://de-doe.webex.com/de-doe/onstage/g.php?MTID=ebfb0ff55b51efa8d7ad3f889d358f7dc\nAnchor Location: Early College High School at Delaware State University\, 1570 North Dupont Hwy\, Multipurpose Room\, Dover\, DE. \nPublic Comments are welcomed. Please notify us at least 24 hours in advance at diaa@doe.k12.de.us.
URL:https://education.delaware.gov/diaa/event/diaa-board-of-directors-meeting-10/
CATEGORIES:Board of Directors,BOD Meeting,Meeting
ORGANIZER;CN="DIAA":MAILTO:diaa@doe.k12.de.us
END:VEVENT
BEGIN:VEVENT
DTSTART;TZID=UTC:20211119T050000
DTEND;TZID=UTC:20211120T050000
DTSTAMP:20260423T185003
CREATED:20210805T183320Z
LAST-MODIFIED:20210805T183320Z
UID:5695-1637298000-1637384400@education.delaware.gov
SUMMARY:Football Playoffs
DESCRIPTION:
URL:https://education.delaware.gov/diaa/event/football-playoffs/
CATEGORIES:Football
END:VEVENT
BEGIN:VEVENT
DTSTART;TZID=UTC:20211120T050000
DTEND;TZID=UTC:20211120T050000
DTSTAMP:20260423T185003
CREATED:20210805T183322Z
LAST-MODIFIED:20210805T183322Z
UID:5696-1637384400-1637384400@education.delaware.gov
SUMMARY:DI/DII Field Hockey Finals
DESCRIPTION:
URL:https://education.delaware.gov/diaa/event/di-dii-field-hockey-finals/
CATEGORIES:Field Hockey
END:VEVENT
BEGIN:VEVENT
DTSTART;TZID=UTC:20211120T050000
DTEND;TZID=UTC:20211120T050000
DTSTAMP:20260423T185003
CREATED:20210805T183322Z
LAST-MODIFIED:20210805T183322Z
UID:5697-1637384400-1637384400@education.delaware.gov
SUMMARY:DI/DII Boys Soccer Finals
DESCRIPTION:
URL:https://education.delaware.gov/diaa/event/di-dii-boys-soccer-finals/
CATEGORIES:Boys Soccer
END:VEVENT
BEGIN:VEVENT
DTSTART;TZID=UTC:20211122T140000
DTEND;TZID=UTC:20211122T140500
DTSTAMP:20260423T185003
CREATED:20211116T055804Z
LAST-MODIFIED:20211116T055804Z
UID:7515-1637589600-1637589900@education.delaware.gov
SUMMARY:DIAA Unified Sports Committee Meeting
DESCRIPTION:AGENDA – https://publicmeetings.delaware.gov/#/meeting/70445 \nUnified Football Seeding Meeting\n\n* In accordance with 29 Del. C. 10006A(c)\, the DIAA Unified Sports Committee meeting will be held virtually by video conference call.\n\nPublic Comments are welcomed. Please notify us at least 24 hours in advance at diaa@doe.k12.de.us.\n\nmeeting join info:\n\n\nThe meeting can also be accessed by phone at +1-415-655-0001.\nThe meeting number (access code) is 2620 772 3822 (no password required)\nhttps://de-doe.webex.com/de-doe/j.php?MTID=m49e1f880a219b4c1a1a29e1aec8b6487\n\n 
URL:https://education.delaware.gov/diaa/event/unified-football11222021/
CATEGORIES:Unified,Unified Football
ORGANIZER;CN="DIAA":MAILTO:diaa@doe.k12.de.us
END:VEVENT
BEGIN:VEVENT
DTSTART;TZID=UTC:20211125T050000
DTEND;TZID=UTC:20211125T050000
DTSTAMP:20260423T185003
CREATED:20210805T183322Z
LAST-MODIFIED:20210805T183322Z
UID:5699-1637816400-1637816400@education.delaware.gov
SUMMARY:Thanksgiving
DESCRIPTION:
URL:https://education.delaware.gov/diaa/event/thanksgiving/
CATEGORIES:Holiday
END:VEVENT
END:VCALENDAR