
BEGIN:VCALENDAR
VERSION:2.0
PRODID:-//Delaware Interscholastic Athletic Association - ECPv6.15.3//NONSGML v1.0//EN
CALSCALE:GREGORIAN
METHOD:PUBLISH
X-ORIGINAL-URL:https://education.delaware.gov/diaa/
X-WR-CALDESC:Events for Delaware Interscholastic Athletic Association
REFRESH-INTERVAL;VALUE=DURATION:PT1H
X-Robots-Tag:noindex
X-PUBLISHED-TTL:PT1H
BEGIN:VTIMEZONE
TZID:UTC
BEGIN:STANDARD
TZOFFSETFROM:+0000
TZOFFSETTO:+0000
TZNAME:UTC
DTSTART:20210101T050000
END:STANDARD
END:VTIMEZONE
BEGIN:VEVENT
DTSTART;VALUE=DATE:20211227
DTEND;VALUE=DATE:20211230
DTSTAMP:20260422T163541
CREATED:20210825T231518Z
LAST-MODIFIED:20210902T084426Z
UID:6540-1640581200-1640753999@education.delaware.gov
SUMMARY:Pat Borowski Holiday Tournament
DESCRIPTION:Invited Schools: All DIAA Member Schools; Bayside Conference Schools\, MD
URL:https://education.delaware.gov/diaa/event/pat-borowski-holiday-tournament/
LOCATION:Lake Forest HS\, Felton\, Delaware
CATEGORIES:Girls Basketball,Sanctioned Events
END:VEVENT
BEGIN:VEVENT
DTSTART;VALUE=DATE:20211227
DTEND;VALUE=DATE:20211231
DTSTAMP:20260422T163541
CREATED:20211228T211714Z
LAST-MODIFIED:20211228T212640Z
UID:7793-1640581200-1640840399@education.delaware.gov
SUMMARY:Hoophall East - Basketball (DE) - NFHS
DESCRIPTION:DIAA Invited Schools: visit www.nfhs.org for a complete list of invited schools \nCape Henlopen HS (girls) \nSeaford HS (boys)
URL:https://education.delaware.gov/diaa/event/hoophall-east-de-nfhs/
LOCATION:Cape Henlopen HS
CATEGORIES:Boys Basketball,Girls Basketball,Sanctioned Events
END:VEVENT
BEGIN:VEVENT
DTSTART;VALUE=DATE:20211227
DTEND;VALUE=DATE:20220101
DTSTAMP:20260422T163541
CREATED:20211228T215733Z
LAST-MODIFIED:20211228T215733Z
UID:7825-1640581200-1640926799@education.delaware.gov
SUMMARY:Diamond State Classic - Girls Basketball - DE (NFHS)
DESCRIPTION:visit www.nfhs.org for a list of invited schools \nDIAA Invited Schools: \nCaravel \nNewark Charter \nSaint Mark’s \nTatnall \nUrsuline
URL:https://education.delaware.gov/diaa/event/diamond-state-classic-girls-basketball-de-nfhs/
CATEGORIES:Girls Basketball,Sanctioned Events
END:VEVENT
BEGIN:VEVENT
DTSTART;VALUE=DATE:20211228
DTEND;VALUE=DATE:20211230
DTSTAMP:20260422T163541
CREATED:20211206T012349Z
LAST-MODIFIED:20211206T012349Z
UID:7699-1640667600-1640753999@education.delaware.gov
SUMMARY:Franklin & Marshall High School Meet #1 - Indoor Track (NFHS)
DESCRIPTION:Invited DIAA Schools: \nAppoquinimink HS \nMt. Pleasant HS
URL:https://education.delaware.gov/diaa/event/franklin-marshall-high-school-meet-1-indoor-track-nfhs/
CATEGORIES:Indoor Track,Sanctioned Events
END:VEVENT
BEGIN:VEVENT
DTSTART;VALUE=DATE:20211228
DTEND;VALUE=DATE:20211231
DTSTAMP:20260422T163541
CREATED:20211228T215827Z
LAST-MODIFIED:20211228T215827Z
UID:7827-1640667600-1640840399@education.delaware.gov
SUMMARY:Marine Corps Holiday Classic - Indoor Track - NY (NFHS)
DESCRIPTION:visit www.nfhs.org for a list of invited schools \n 
URL:https://education.delaware.gov/diaa/event/marine-corps-holiday-classic-indoor-track-ny-nfhs/
CATEGORIES:Indoor Track,Sanctioned Events
END:VEVENT
BEGIN:VEVENT
DTSTART;VALUE=DATE:20211228
DTEND;VALUE=DATE:20220101
DTSTAMP:20260422T163541
CREATED:20210904T010541Z
LAST-MODIFIED:20210904T010922Z
UID:6852-1640667600-1640926799@education.delaware.gov
SUMMARY:Viking Invitational - NFHS Event
DESCRIPTION:Invited School – see NFHS Sanction Website
URL:https://education.delaware.gov/diaa/event/viking-invitational-nfhs-event/
LOCATION:St. Elizabeth High School\, 1500 Cedar Street\, Wilmington\, DE\, 19805\, United States
CATEGORIES:Girls Basketball,Sanctioned Events
END:VEVENT
BEGIN:VEVENT
DTSTART;TZID=UTC:20211228T130000
DTEND;TZID=UTC:20211228T220000
DTSTAMP:20260422T163541
CREATED:20211228T221411Z
LAST-MODIFIED:20211228T221411Z
UID:7839-1640696400-1640728800@education.delaware.gov
SUMMARY:2022 MLK Basketball Classic - Basketball - NJ (NFHS)
DESCRIPTION:visit www.nfhs.org for a list of invited schools \nDIAA Invited Schools:
URL:https://education.delaware.gov/diaa/event/2022-mlk-basketball-classic-basketball-nj-nfhs/
END:VEVENT
BEGIN:VEVENT
DTSTART;VALUE=DATE:20211229
DTEND;VALUE=DATE:20220101
DTSTAMP:20260422T163541
CREATED:20211203T043610Z
LAST-MODIFIED:20211216T001016Z
UID:7674-1640754000-1640926799@education.delaware.gov
SUMMARY:Governor Mifflin Holiday Wrestling Tournament - Wrestling (PA)
DESCRIPTION:DIAA Invited Schools: \nSussex Central High School \nTower Hill School – added 12/15/21
URL:https://education.delaware.gov/diaa/event/governor-mifflin-holiday-wrestling-tournament-wrestling-pa/
LOCATION:Governor Mifflin HS
CATEGORIES:Sanctioned Events,Wrestling
END:VEVENT
BEGIN:VEVENT
DTSTART;VALUE=DATE:20211230
DTEND;VALUE=DATE:20220101
DTSTAMP:20260422T163541
CREATED:20211208T052325Z
LAST-MODIFIED:20211208T052325Z
UID:7752-1640840400-1640926799@education.delaware.gov
SUMMARY:Annual Phil Carbonetta Holiday Wrestling Tournament (PA)
DESCRIPTION:DIAA Invited School: \nArchmere Academy
URL:https://education.delaware.gov/diaa/event/annual-phil-carbonetta-holiday-wrestling-tournament-pa/
CATEGORIES:Sanctioned Events,Wrestling
END:VEVENT
BEGIN:VEVENT
DTSTART;VALUE=DATE:20211230
DTEND;VALUE=DATE:20220101
DTSTAMP:20260422T163541
CREATED:20211228T215937Z
LAST-MODIFIED:20211228T215937Z
UID:7829-1640840400-1640926799@education.delaware.gov
SUMMARY:North Shore High School Invitational - Indoor Track - NY (NFHS)
DESCRIPTION:visit www.nfhs.org for a list of invited schools \n 
URL:https://education.delaware.gov/diaa/event/north-shore-high-school-invitational-indoor-track-ny-nfhs/
CATEGORIES:Indoor Track,Sanctioned Events
END:VEVENT
BEGIN:VEVENT
DTSTART;TZID=UTC:20211231T050000
DTEND;TZID=UTC:20211231T050000
DTSTAMP:20260422T163541
CREATED:20210805T183352Z
LAST-MODIFIED:20210805T183352Z
UID:5709-1640926800-1640926800@education.delaware.gov
SUMMARY:New Year's Eve
DESCRIPTION:
URL:https://education.delaware.gov/diaa/event/new-years-eve/
CATEGORIES:Holiday
END:VEVENT
BEGIN:VEVENT
DTSTART;TZID=UTC:20220101T050000
DTEND;TZID=UTC:20220101T050000
DTSTAMP:20260422T163541
CREATED:20210805T183352Z
LAST-MODIFIED:20210805T183352Z
UID:5710-1641013200-1641013200@education.delaware.gov
SUMMARY:New Year's Day
DESCRIPTION:
URL:https://education.delaware.gov/diaa/event/new-years-day/
CATEGORIES:Holiday
END:VEVENT
BEGIN:VEVENT
DTSTART;TZID=UTC:20220103T050000
DTEND;TZID=UTC:20220106T050000
DTSTAMP:20260422T163541
CREATED:20210805T183516Z
LAST-MODIFIED:20210805T183516Z
UID:5711-1641186000-1641445200@education.delaware.gov
SUMMARY:NFHS Winter Meeting (San Diego\, CA)
DESCRIPTION:
URL:https://education.delaware.gov/diaa/event/nfhs-winter-meeting-san-diego-ca/
CATEGORIES:NFHS
END:VEVENT
BEGIN:VEVENT
DTSTART;VALUE=DATE:20220107
DTEND;VALUE=DATE:20220109
DTSTAMP:20260422T163541
CREATED:20211203T042735Z
LAST-MODIFIED:20211228T213013Z
UID:7671-1641531600-1641617999@education.delaware.gov
SUMMARY:2022 Iron Horse Duals - Wrestling (MD)
DESCRIPTION:Invited DIAA Schools: \nCape Henlopen High School
URL:https://education.delaware.gov/diaa/event/2022-iron-horse-duals-wrestling-md/
LOCATION:C. Milton Wright High School
CATEGORIES:Sanctioned Events,Wrestling
END:VEVENT
BEGIN:VEVENT
DTSTART;VALUE=DATE:20220107
DTEND;VALUE=DATE:20220110
DTSTAMP:20260422T163541
CREATED:20211203T053149Z
LAST-MODIFIED:20211203T053149Z
UID:7685-1641531600-1641704399@education.delaware.gov
SUMMARY:Delcastle Invitational - Wrestling (DE)
DESCRIPTION:DIAA Invited Schools Only: \nAI duPont \nArchmere \nBrandywine \nCaravel \nCharter Wilmington \nConrad \nDMA \nFirst State Military \nGlasgow \nHodgson \nMcKean \nNewark Charter \nPolytech \nSalesianum \nSanford \nSt. Andrews \nSaint Mark’s \nSussex Tech \nTower Hill \nWilliam Penn \nWilmington Friends \nWoodbridge \nDelcastle
URL:https://education.delaware.gov/diaa/event/delcastle-invitational-wrestling-de/
LOCATION:Delcastle High School
CATEGORIES:Sanctioned Events,Wrestling
END:VEVENT
BEGIN:VEVENT
DTSTART;VALUE=DATE:20220107
DTEND;VALUE=DATE:20220110
DTSTAMP:20260422T163541
CREATED:20211208T044137Z
LAST-MODIFIED:20211208T044137Z
UID:7742-1641531600-1641704399@education.delaware.gov
SUMMARY:Virginia Beach High Relays - Indoor Track (VA) NFHS
DESCRIPTION:DIAA Invited School: visit www.nfhs.org for complete list of invited schools \nMiddletown High School \n 
URL:https://education.delaware.gov/diaa/event/virginia-beach-high-relays-indoor-track-va-nfhs/
CATEGORIES:Indoor Track,Sanctioned Events
END:VEVENT
BEGIN:VEVENT
DTSTART;VALUE=DATE:20220107
DTEND;VALUE=DATE:20220110
DTSTAMP:20260422T163541
CREATED:20211228T213313Z
LAST-MODIFIED:20211228T213313Z
UID:7806-1641531600-1641704399@education.delaware.gov
SUMMARY:WCS Tournament - Boys Basketball (DE)
DESCRIPTION:Invited Schools: \nFreire Charter \nRed Lion Christian \nWilmington Christian \n 
URL:https://education.delaware.gov/diaa/event/wcs-tournament-boys-basketball-de/
CATEGORIES:Boys Lacrosse,Sanctioned Events
END:VEVENT
BEGIN:VEVENT
DTSTART;VALUE=DATE:20220107
DTEND;VALUE=DATE:20220110
DTSTAMP:20260422T163541
CREATED:20211228T222101Z
LAST-MODIFIED:20211228T222101Z
UID:7851-1641531600-1641704399@education.delaware.gov
SUMMARY:US Air Force Hispanic Games - Indoor Track - NY (NFHS)
DESCRIPTION:visit www.nfhs.org for a list of invited schools \n 
URL:https://education.delaware.gov/diaa/event/us-air-force-hispanic-games-indoor-track-ny-nfhs/
CATEGORIES:Indoor Track,NFHS,Sanctioned Events
END:VEVENT
BEGIN:VEVENT
DTSTART;VALUE=DATE:20220108
DTEND;VALUE=DATE:20220110
DTSTAMP:20260422T163541
CREATED:20211208T044702Z
LAST-MODIFIED:20211208T044702Z
UID:7744-1641618000-1641704399@education.delaware.gov
SUMMARY:CNU's HS Showcase - Indoor Track (VA) NFHS
DESCRIPTION:DIAA Invited School: visit www.nfhs.org for a complete list of invited schools \nCape Henlopen High School
URL:https://education.delaware.gov/diaa/event/cnus-hs-showcase-indoor-track-va-nfhs/
CATEGORIES:Indoor Track,Sanctioned Events
END:VEVENT
BEGIN:VEVENT
DTSTART;VALUE=DATE:20220108
DTEND;VALUE=DATE:20220110
DTSTAMP:20260422T163541
CREATED:20211228T220453Z
LAST-MODIFIED:20211228T220453Z
UID:7831-1641618000-1641704399@education.delaware.gov
SUMMARY:7th Annual Joe Verciglio Memorial Wrestling Tournament
DESCRIPTION:visit www.nfhs.org for a list of invited schools \nDIAA Invited Schools: \nCaesar Rodney HS
URL:https://education.delaware.gov/diaa/event/7th-annual-joe-verciglio-memorial-wrestling-tournament/
CATEGORIES:Sanctioned Events,Wrestling
END:VEVENT
BEGIN:VEVENT
DTSTART;VALUE=DATE:20220108
DTEND;VALUE=DATE:20220110
DTSTAMP:20260422T163541
CREATED:20211228T224442Z
LAST-MODIFIED:20211228T224442Z
UID:7859-1641618000-1641704399@education.delaware.gov
SUMMARY:Kevin Dare High School Invitational - Indoor Track - PA (NFHS)
DESCRIPTION:visit www.nfhs.org for a list of invited schools \nDIAA Invited Schools: \nConcord HS \n  \nposted 12/28/21
URL:https://education.delaware.gov/diaa/event/kevin-dare-high-school-invitational-indoor-track-pa-nfhs/
CATEGORIES:Indoor Track,NFHS,Sanctioned Events
END:VEVENT
BEGIN:VEVENT
DTSTART;VALUE=DATE:20220108
DTEND;VALUE=DATE:20220110
DTSTAMP:20260422T163541
CREATED:20211228T225957Z
LAST-MODIFIED:20211228T225957Z
UID:7867-1641618000-1641704399@education.delaware.gov
SUMMARY:Ocean Breeze Freedom Games - Indoor Track - NY (NFHS)
DESCRIPTION:visit www.nfhs.org for a list of invited schools \nDIAA Invited Schools: \nArchmere \nNewark \nPadua \nSalesianum \nSaint Mark’s \nTatnall
URL:https://education.delaware.gov/diaa/event/ocean-breeze-freedom-games-indoor-track-ny-nfhs/
CATEGORIES:Indoor Track,NFHS,Sanctioned Events
END:VEVENT
BEGIN:VEVENT
DTSTART;VALUE=DATE:20220109
DTEND;VALUE=DATE:20220111
DTSTAMP:20260422T163541
CREATED:20211203T035442Z
LAST-MODIFIED:20211203T041553Z
UID:7657-1641704400-1641790799@education.delaware.gov
SUMMARY:2022 Collegeville High School Invitational - Indoor Track (PA)
DESCRIPTION:DIAA Invited Schools: \nSalesianum \nCape Henlopen \nDMA \nDover \nPadua \nGlasgow \nCharter Wilmington \nUrsuline \nSmyrna \nAI duPont \nBrandywine \nTatnall \nMcKean \nHoward \nSt. Georges
URL:https://education.delaware.gov/diaa/event/2022-collegeville-high-school-invitational-indoor-track-nj/
LOCATION:Ursinus College
CATEGORIES:Indoor Track,Sanctioned Events
END:VEVENT
BEGIN:VEVENT
DTSTART;VALUE=DATE:20220110
DTEND;VALUE=DATE:20220112
DTSTAMP:20260422T163541
CREATED:20211025T211103Z
LAST-MODIFIED:20211025T211103Z
UID:7268-1641790800-1641877199@education.delaware.gov
SUMMARY:Unified Basketball - SODE hosted Play Day
DESCRIPTION:January 10th – SODE hosting playday open to all unified basketball teams \nPlease contact Nate Threatts for more information.
URL:https://education.delaware.gov/diaa/event/unified-basketball-sode-hosted-play-day/
CATEGORIES:Unified Basketball
END:VEVENT
BEGIN:VEVENT
DTSTART;VALUE=DATE:20220110
DTEND;VALUE=DATE:20220112
DTSTAMP:20260422T163541
CREATED:20211203T045100Z
LAST-MODIFIED:20211203T045100Z
UID:7677-1641790800-1641877199@education.delaware.gov
SUMMARY:Unified Basketball Play Day (DE)
DESCRIPTION:Invited Schools: \nAppoquinimink \nCaesar Rodney \nCape Henlopen \nDelcastle \nDover \nIndian River \nMcKean \nMiddletown \nMilford \nNewark Charter \nPolytech \nSeaford \nWilliam Penn
URL:https://education.delaware.gov/diaa/event/unified-basketball-play-day-de/
LOCATION:Kent County Parks & Rec Center
CATEGORIES:Sanctioned Events,Unified Basketball
END:VEVENT
BEGIN:VEVENT
DTSTART;TZID=UTC:20220112T000000
DTEND;TZID=UTC:20220112T000500
DTSTAMP:20260422T163541
CREATED:20220105T222025Z
LAST-MODIFIED:20220105T222025Z
UID:7876-1641945600-1641945900@education.delaware.gov
SUMMARY:DIAA Swimming Committee Meeting
DESCRIPTION:Tuesday\, January 11\, 2021 – 7pm\, VIRTUAL MEETING \nAGENDA \nPublic Comments are welcomed. Please notify us at least 24 hours in advance at diaa@doe.k12.de.us. \n\n\n\nJoin from the meeting link\n\n\nhttps://de-doe.webex.com/de-doe/j.php?MTID=m5c544d0f51c9e9424651873fae2a0e0c\n\n\n\n\n\n\n\n\n\nJoin by meeting number\n\n\nMeeting number (access code): 2624 239 0765\n\n\nMeeting password: crMUA3dGH29\n\n\n\n\n\n\nJoin by phone\n+1-415-655-0001 US Toll  
URL:https://education.delaware.gov/diaa/event/diaa-swimming-committee-meeting/
CATEGORIES:Committee Meeting,Swimming & Diving
ORGANIZER;CN="DIAA":MAILTO:diaa@doe.k12.de.us
END:VEVENT
BEGIN:VEVENT
DTSTART;VALUE=DATE:20220112
DTEND;VALUE=DATE:20220114
DTSTAMP:20260422T163541
CREATED:20211228T221631Z
LAST-MODIFIED:20211228T221631Z
UID:7843-1641963600-1642049999@education.delaware.gov
SUMMARY:Millrose Games Trials - Indoor Track - NY (NFHS)
DESCRIPTION:visit www.nfhs.org for a list of invited schools \n 
URL:https://education.delaware.gov/diaa/event/millrose-games-trials-indoor-track-ny-nfhs/
CATEGORIES:Indoor Track,Sanctioned Events
END:VEVENT
BEGIN:VEVENT
DTSTART;VALUE=DATE:20220113
DTEND;VALUE=DATE:20220115
DTSTAMP:20260422T163541
CREATED:20220115T110735Z
LAST-MODIFIED:20220115T110735Z
UID:7947-1642050000-1642136399@education.delaware.gov
SUMMARY:Mini Meet - Indoor Track (DE)
DESCRIPTION:DIAA Invited Schools: \nUrsuline \nTower Hill \nConrad \nFriends \nWilmington Christian \nPadua \nSt. Elizabeth \nTatnall
URL:https://education.delaware.gov/diaa/event/mini-meet-indoor-track-de/
LOCATION:Wilmington Friends
CATEGORIES:Indoor Track,Sanctioned Events
END:VEVENT
BEGIN:VEVENT
DTSTART;TZID=UTC:20220114T000000
DTEND;TZID=UTC:20220114T000500
DTSTAMP:20260422T163541
CREATED:20220111T202237Z
LAST-MODIFIED:20220111T202237Z
UID:7898-1642118400-1642118700@education.delaware.gov
SUMMARY:DIAA Track and Field Committee Meeting
DESCRIPTION:DIAA Track and Field Committee Meeting\nTuesday\, January 11\, 2021 – 7pm\, VIRTUAL MEETING\n\n\nAGENDA \nPublic Comments are welcomed. Please notify us at least 24 hours in advance at diaa@doe.k12.de.us. \n\n\n\nJoin from the meeting link\n\n\nhttps://de-doe.webex.com/de-doe/j.php?MTID=m25f0a608ec28df9fc7cf4b33b2662e48\n\n\n\n\n\n\n\n\n\nJoin by meeting number\n\n\nMeeting number (access code): 2620 290 5857\n\n\nMeeting password: PBsvyYm2n75\n\n\nJoin by phone\n+1-415-655-0001 US Toll\n\n\n\n 
URL:https://education.delaware.gov/diaa/event/diaa-track-and-field-committee-meeting-4/
CATEGORIES:Committee Meeting,Indoor Track
ORGANIZER;CN="DIAA":MAILTO:diaa@doe.k12.de.us
END:VEVENT
BEGIN:VEVENT
DTSTART;VALUE=DATE:20220114
DTEND;VALUE=DATE:20220116
DTSTAMP:20260422T163541
CREATED:20211228T221844Z
LAST-MODIFIED:20211228T221844Z
UID:7847-1642136400-1642222799@education.delaware.gov
SUMMARY:Steve Borbet Invitational - Indoor Track - NY (NFHS)
DESCRIPTION:visit www.nfhs.org for a list of invited schools \n 
URL:https://education.delaware.gov/diaa/event/steve-borbet-invitational-indoor-track-ny-nfhs/
CATEGORIES:Indoor Track,NFHS,Sanctioned Events
END:VEVENT
END:VCALENDAR