
BEGIN:VCALENDAR
VERSION:2.0
PRODID:-//Delaware Interscholastic Athletic Association - ECPv6.15.3//NONSGML v1.0//EN
CALSCALE:GREGORIAN
METHOD:PUBLISH
X-ORIGINAL-URL:https://education.delaware.gov/diaa/
X-WR-CALDESC:Events for Delaware Interscholastic Athletic Association
REFRESH-INTERVAL;VALUE=DURATION:PT1H
X-Robots-Tag:noindex
X-PUBLISHED-TTL:PT1H
BEGIN:VTIMEZONE
TZID:UTC
BEGIN:STANDARD
TZOFFSETFROM:+0000
TZOFFSETTO:+0000
TZNAME:UTC
DTSTART:20210101T050000
END:STANDARD
END:VTIMEZONE
BEGIN:VEVENT
DTSTART;TZID=UTC:20211207T000000
DTEND;TZID=UTC:20211207T000500
DTSTAMP:20260421T225253
CREATED:20211206T202211Z
LAST-MODIFIED:20211206T202211Z
UID:7724-1638835200-1638835500@education.delaware.gov
SUMMARY:DIAA Boys Basketball Committee Meeting
DESCRIPTION:Agenda and meeting info \nYou can also dial in using your phone. United States: 415-655-0001.\nThe meeting number (access code): 2620 138 4526 and meeting password eJ5CeUe4i6c\nhttps://de-doe.webex.com/de-doe/j.php?MTID=m4fc4f99753c9ef896f06a6bc1f7619f3\n  \nPublic Comments are welcomed. Please notify us at least 24 hours in advance at diaa@doe.k12.de.us.
URL:https://education.delaware.gov/diaa/event/diaa-boys-basketball-committee-meeting-3/
CATEGORIES:Boys Basketball
ORGANIZER;CN="DIAA":MAILTO:diaa@doe.k12.de.us
END:VEVENT
BEGIN:VEVENT
DTSTART;VALUE=DATE:20211207
DTEND;VALUE=DATE:20211209
DTSTAMP:20260421T225253
CREATED:20210805T183337Z
LAST-MODIFIED:20211206T052523Z
UID:5704-1638853200-1638939599@education.delaware.gov
SUMMARY:Unified Flag Football Semi-Finals
DESCRIPTION:Championship Bracket and Game Information
URL:https://education.delaware.gov/diaa/event/unified-flag-football-semi-finals/
CATEGORIES:Unified,Unified Football
END:VEVENT
BEGIN:VEVENT
DTSTART;TZID=UTC:20211209T140000
DTEND;TZID=UTC:20211209T140500
DTSTAMP:20260421T225253
CREATED:20210805T183337Z
LAST-MODIFIED:20211206T202403Z
UID:5705-1639058400-1639058700@education.delaware.gov
SUMMARY:DIAA Board of Directors Meeting
DESCRIPTION:09:00 AM\, Thursday December 09\, 2021 \nAGENDA AND MEETING INFO \nThis is a WebEx Meeting and you must register prior to attending; the link to register is provided below. \nAnchor Location: \nCollette Educational Resource Center\, 35 Commerce Way\, Dover De 19904. \n  \nThis is a WedEx webinar meeting; you may join via your computer\, tablet or smartphone.\nhttps://de-doe.webex.com/de-doe/onstage/g.php?MTID=e9b3ab38c30e779e65c26064697eca213
URL:https://education.delaware.gov/diaa/event/diaa-board-of-directors-meeting-11/
LOCATION:Colette Education Resource Center\, 35 Commerce Way\, Suite 1\, Dover\, DE\, 19904
CATEGORIES:Board of Directors,BOD Meeting,Meeting
ORGANIZER;CN="DIAA":MAILTO:diaa@doe.k12.de.us
END:VEVENT
BEGIN:VEVENT
DTSTART;VALUE=DATE:20211210
DTEND;VALUE=DATE:20211213
DTSTAMP:20260421T225253
CREATED:20210805T183352Z
LAST-MODIFIED:20210805T183352Z
UID:5708-1639112400-1639285199@education.delaware.gov
SUMMARY:NFHS/NIAAA National AD Conference (Denver\, CO)
DESCRIPTION:
URL:https://education.delaware.gov/diaa/event/nfhs-niaaa-national-ad-conference-denver-co/
CATEGORIES:NFHS
END:VEVENT
BEGIN:VEVENT
DTSTART;VALUE=DATE:20211210
DTEND;VALUE=DATE:20211213
DTSTAMP:20260421T225253
CREATED:20211005T213652Z
LAST-MODIFIED:20211005T215321Z
UID:7103-1639112400-1639285199@education.delaware.gov
SUMMARY:Delmar Wrestling Invitational (DE)
DESCRIPTION:DIAA Invited Schools: \nDelmar HS \nDover HS* \nFirst State Military Academy \nIndian River HS \nLake Forest HS \nMcKean HS* \nMiddletown HS* \nPolytech HS* \nSeaford HS \nSt. Georges HS* \nSussex Central HS \nSussex Tech HS \nWoodbridge HS \nMD Schools Invited: \nParkside HS \nBennett HS \n 
URL:https://education.delaware.gov/diaa/event/delmar-wrestling-invitational-de/
LOCATION:Delmar High School\, Delmar\, DE
CATEGORIES:Sanctioned Events,Wrestling
END:VEVENT
BEGIN:VEVENT
DTSTART;VALUE=DATE:20211210
DTEND;VALUE=DATE:20211213
DTSTAMP:20260421T225253
CREATED:20211130T063001Z
LAST-MODIFIED:20211130T063001Z
UID:7630-1639112400-1639285199@education.delaware.gov
SUMMARY:2021 Walsh Jesuit/Ron Marhofer Chevrolet Ironman Wrestling Tournament - (OH) NFHS
DESCRIPTION:DIAA Invited Schools – visit www.nfhs.org for a complete list of invited schools \nCaravel Academy \nSmyrna High School
URL:https://education.delaware.gov/diaa/event/2021-walsh-jesuit-ron-marhofer-chevrolet-ironman-wrestling-tournament-oh-nfhs/
CATEGORIES:Sanctioned Events,Wrestling
END:VEVENT
BEGIN:VEVENT
DTSTART;VALUE=DATE:20211210
DTEND;VALUE=DATE:20211213
DTSTAMP:20260421T225253
CREATED:20211203T060839Z
LAST-MODIFIED:20211203T060839Z
UID:7689-1639112400-1639285199@education.delaware.gov
SUMMARY:23rd Annual Mule Classic - Wrestling (PA)
DESCRIPTION:DIAA Invited Schools: \nSalesianum School \nSanford School
URL:https://education.delaware.gov/diaa/event/23rd-annual-mule-classic-wrestling-pa/
LOCATION:Solanco High School
CATEGORIES:Sanctioned Events,Wrestling
END:VEVENT
BEGIN:VEVENT
DTSTART;VALUE=DATE:20211210
DTEND;VALUE=DATE:20211213
DTSTAMP:20260421T225253
CREATED:20211228T214506Z
LAST-MODIFIED:20211228T214506Z
UID:7812-1639112400-1639285199@education.delaware.gov
SUMMARY:Virginia Beach High School Opener - Indoor Track (NFHS)
DESCRIPTION:Visit www.nfhs.org for invited schools \nDIAA invited schools: \nMiddletown HS
URL:https://education.delaware.gov/diaa/event/virginia-beach-high-school-opener-indoor-track-nfhs/
CATEGORIES:Indoor Track,Sanctioned Events
END:VEVENT
BEGIN:VEVENT
DTSTART;VALUE=DATE:20211210
DTEND;VALUE=DATE:20211214
DTSTAMP:20260421T225253
CREATED:20211203T050234Z
LAST-MODIFIED:20211203T050234Z
UID:7683-1639112400-1639371599@education.delaware.gov
SUMMARY:She Got Game Classic (DMV) - NFHS
DESCRIPTION:DIAA Invited Schools: – visit www.nfhs.org for a full list of invited schools \nAppoquinimink \nCape \nCaravel \nSanford \nSt. Georges \nUrsuline
URL:https://education.delaware.gov/diaa/event/she-got-game-classic-dmv-nfhs/
CATEGORIES:Girls Basketball,Sanctioned Events
END:VEVENT
BEGIN:VEVENT
DTSTART;VALUE=DATE:20211211
DTEND;VALUE=DATE:20211213
DTSTAMP:20260421T225253
CREATED:20210805T183352Z
LAST-MODIFIED:20211206T200632Z
UID:5707-1639198800-1639285199@education.delaware.gov
SUMMARY:DIAA Football Finals
DESCRIPTION:DIAA FOOTBALL CHAMPIONSHIP BRACKETS AND AND GAME INFO
URL:https://education.delaware.gov/diaa/event/football-finals-3a-2a-1a-flag-football/
LOCATION:University of Delaware
CATEGORIES:Football,Unified Football
ORGANIZER;CN="DIAA":MAILTO:diaa@doe.k12.de.us
END:VEVENT
BEGIN:VEVENT
DTSTART;VALUE=DATE:20211211
DTEND;VALUE=DATE:20211213
DTSTAMP:20260421T225253
CREATED:20211203T041522Z
LAST-MODIFIED:20211203T041522Z
UID:7668-1639198800-1639285199@education.delaware.gov
SUMMARY:2021 Ursinus College High School Invitational - Indoor Track (PA)
DESCRIPTION:DIAA Invited Schools: \nCape Henlopen \nMount Pleasant \nWilmington Christian \nTatnall \nMcKean \nDover \nMiddletown \nAppoquinimink
URL:https://education.delaware.gov/diaa/event/2021-ursinus-college-high-school-invitational-indoor-track-pa/
LOCATION:Ursinus College
CATEGORIES:Indoor Track,Sanctioned Events
END:VEVENT
BEGIN:VEVENT
DTSTART;VALUE=DATE:20211211
DTEND;VALUE=DATE:20211213
DTSTAMP:20260421T225253
CREATED:20211203T062955Z
LAST-MODIFIED:20211203T062955Z
UID:7692-1639198800-1639285199@education.delaware.gov
SUMMARY:Milford Invitational - Wrestling (DE)
DESCRIPTION:DIAA Invited Schools Only: \nMilford \nAI duPont \nLaurel \nArchmere \nPolytech \nCaesar Rodney \nSmyrna \nDelcastle \nWilliam Penn \nHodgson \nWilmington Friends \n 
URL:https://education.delaware.gov/diaa/event/milford-invitational-wrestling-de/
LOCATION:Milford High School
CATEGORIES:Sanctioned Events,Wrestling
END:VEVENT
BEGIN:VEVENT
DTSTART;VALUE=DATE:20211211
DTEND;VALUE=DATE:20211213
DTSTAMP:20260421T225253
CREATED:20211208T051941Z
LAST-MODIFIED:20211208T051941Z
UID:7750-1639198800-1639285199@education.delaware.gov
SUMMARY:Rough Rider Wrestling Invitational (PA)
DESCRIPTION:DIAA Invited School: \nNewark Charter School
URL:https://education.delaware.gov/diaa/event/rough-rider-wrestling-invitational-pa/
CATEGORIES:Sanctioned Events,Wrestling
END:VEVENT
BEGIN:VEVENT
DTSTART;VALUE=DATE:20211211
DTEND;VALUE=DATE:20211213
DTSTAMP:20260421T225253
CREATED:20211228T214702Z
LAST-MODIFIED:20211228T214702Z
UID:7814-1639198800-1639285199@education.delaware.gov
SUMMARY:Jim Mitchell Invitational - Indoor Track - NY (NFHS)
DESCRIPTION:visit www.nfhs.org for a list of invited schools \n 
URL:https://education.delaware.gov/diaa/event/jim-mitchell-invitational-indoor-track-ny-nfhs/
CATEGORIES:Indoor Track,Sanctioned Events
END:VEVENT
BEGIN:VEVENT
DTSTART;VALUE=DATE:20211211
DTEND;VALUE=DATE:20211213
DTSTAMP:20260421T225253
CREATED:20211228T214818Z
LAST-MODIFIED:20211228T214818Z
UID:7816-1639198800-1639285199@education.delaware.gov
SUMMARY:Alvernia Holiday Classic - Indoor Track - PA (NFHS)
DESCRIPTION:visit www.nfhs.org for a list of invited schools \n 
URL:https://education.delaware.gov/diaa/event/alvernia-holiday-classic-indoor-track-pa-nfhs/
CATEGORIES:Indoor Track,Sanctioned Events
END:VEVENT
BEGIN:VEVENT
DTSTART;VALUE=DATE:20211212
DTEND;VALUE=DATE:20211214
DTSTAMP:20260421T225253
CREATED:20211021T091509Z
LAST-MODIFIED:20211021T091509Z
UID:7219-1639285200-1639371599@education.delaware.gov
SUMMARY:All City Classic (DE)
DESCRIPTION:Invited Schools: \nHoward High School \nSalesianum School \nSeaford High School \nSaints John Neuman and Maria Goretti High School (PA) \nImhotep Charter School (PA) \nMath Civics & Sciences School (PA)
URL:https://education.delaware.gov/diaa/event/all-city-classic-de/
LOCATION:Salesianum School
CATEGORIES:Boys Basketball,Sanctioned Events
END:VEVENT
BEGIN:VEVENT
DTSTART;VALUE=DATE:20211216
DTEND;VALUE=DATE:20211218
DTSTAMP:20260421T225253
CREATED:20211215T033937Z
LAST-MODIFIED:20211215T033937Z
UID:7771-1639630800-1639717199@education.delaware.gov
SUMMARY:Winter Track Meet - Indoor Track (DE)
DESCRIPTION:Invited Schools: \nAppoquinimink High School \nMiddletown High School \nSt. Georges High School \nOdessa High School
URL:https://education.delaware.gov/diaa/event/winter-track-meet-indoor-track-de/
CATEGORIES:Indoor Track,Sanctioned Events
END:VEVENT
BEGIN:VEVENT
DTSTART;TZID=UTC:20211216T140000
DTEND;TZID=UTC:20211216T140500
DTSTAMP:20260421T225253
CREATED:20211216T110445Z
LAST-MODIFIED:20211216T110445Z
UID:7783-1639663200-1639663500@education.delaware.gov
SUMMARY:DIAA Sportsmanship Committee Meeting
DESCRIPTION:09:00 AM\, Thursday December 16\, 2021 \nAGENDA AND MEETING INFO \nMeeting Location: \nCollette Educational Resource Center\, Conference Room B\, 35 Commerce Way\, Dover De 19904. \nMeeting join info: \nJoin by phone +1-415-655-0001 US Toll\n\nJoin by meeting number – Meeting number (access code): 2623 007 4459\n\nhttps://de-doe.webex.com/de-doe/j.php?MTID=m489b3062a038a65b368472684823fd88\n\nPublic Comments are welcomed. Please notify us at least 24 hours in advance at diaa@doe.k12.de.us.
URL:https://education.delaware.gov/diaa/event/diaa-sportsmanship-committee-meeting-6/
LOCATION:Colette Education Resource Center\, 35 Commerce Way\, Suite 1\, Dover\, DE\, 19904
CATEGORIES:Committee Meeting,Sportsmanship
ORGANIZER;CN="DIAA":MAILTO:diaa@doe.k12.de.us
END:VEVENT
BEGIN:VEVENT
DTSTART;VALUE=DATE:20211217
DTEND;VALUE=DATE:20211219
DTSTAMP:20260421T225253
CREATED:20211228T214931Z
LAST-MODIFIED:20211228T214931Z
UID:7818-1639717200-1639803599@education.delaware.gov
SUMMARY:Coach Saint Invitational - Indoor Track - NY (NFHS)
DESCRIPTION:visit www.nfhs.org for a list of invited schools \n 
URL:https://education.delaware.gov/diaa/event/coach-saint-invitational-indoor-track-ny-nfhs/
CATEGORIES:Indoor Track,Sanctioned Events
END:VEVENT
BEGIN:VEVENT
DTSTART;VALUE=DATE:20211217
DTEND;VALUE=DATE:20211220
DTSTAMP:20260421T225253
CREATED:20211018T173235Z
LAST-MODIFIED:20211208T233009Z
UID:7177-1639717200-1639889999@education.delaware.gov
SUMMARY:Parkside Holiday Wrestling Tournament (MD)
DESCRIPTION:DIAA Invited Schools:  \nDelmar High School \nSeaford High School \nWoodbridge High School (JV) \nSussex Academy – added 12/8/21
URL:https://education.delaware.gov/diaa/event/parkside-holiday-wrestling-tournament-md/
LOCATION:Parkside High School\, Salisbury\, MD
CATEGORIES:Sanctioned Events,Wrestling
END:VEVENT
BEGIN:VEVENT
DTSTART;VALUE=DATE:20211217
DTEND;VALUE=DATE:20211220
DTSTAMP:20260421T225253
CREATED:20211021T090705Z
LAST-MODIFIED:20211021T090705Z
UID:7215-1639717200-1639889999@education.delaware.gov
SUMMARY:Rumble by the River (DE)
DESCRIPTION:Invited Schools: \nChester Charter Scholars Academy (PA) \nMilford High School \nMOT Charter School \nSt. Georges Tech High School
URL:https://education.delaware.gov/diaa/event/rumble-by-the-river-de/
LOCATION:St. Georges Tech HS
CATEGORIES:Boys Basketball,Sanctioned Events
END:VEVENT
BEGIN:VEVENT
DTSTART;VALUE=DATE:20211217
DTEND;VALUE=DATE:20211220
DTSTAMP:20260421T225253
CREATED:20211130T091001Z
LAST-MODIFIED:20211130T091001Z
UID:7637-1639717200-1639889999@education.delaware.gov
SUMMARY:Howdy Duncan Wrestling Tournament (DE)
DESCRIPTION:Invited Schools \n\n\n\nSchool Name\n\n\nAI duPont\n\n\nArchmere\n\n\nCharter School of Wilmington\n\n\nChristiana\n\n\nConcord\n\n\nConrad\n\n\nDelcastle\n\n\nDickinson\n\n\nDover\n\n\nFirst State Military\n\n\nGlasgow\n\n\nHodgson\n\n\nHoward\n\n\nJohn Carroll (MD)\n\n\nLake Forest\n\n\nLaurel\n\n\n\n\n\nMcKean\n\n\nMilford\n\n\nMount Pleasant\n\n\nNewark\n\n\nOdessa\n\n\nPolytech\n\n\nRed Lion\n\n\nSanford\n\n\nSt. Elizabeth\n\n\nSaint Andrews\n\n\nSt. Marks\n\n\nSun Valley (PA)\n\n\nTatnall\n\n\n\n\n\nTimber Creek (NJ)\n\n\nTower Hill\n\n\nWilliam Penn\n\n\nWilmington Christian\n\n\nWilmington Friends\n\n\nWoodbridge\n\n\n\n  \n 
URL:https://education.delaware.gov/diaa/event/howdy-duncan-wrestling-tournament-de/
LOCATION:William Penn High School
CATEGORIES:Sanctioned Events,Wrestling
END:VEVENT
BEGIN:VEVENT
DTSTART;VALUE=DATE:20211217
DTEND;VALUE=DATE:20211221
DTSTAMP:20260421T225253
CREATED:20211228T220706Z
LAST-MODIFIED:20211228T220706Z
UID:7833-1639717200-1639976399@education.delaware.gov
SUMMARY:Super Games @ The Shore - Girls Basketball - NJ (NFHS)
DESCRIPTION:visit www.nfhs.org for a list of invited schools \nDIAA Invited Schools: \nCaravel \nSanford \nUrsuline
URL:https://education.delaware.gov/diaa/event/super-games-the-shore-girls-basketball-nj-nfhs/
CATEGORIES:Girls Basketball,Sanctioned Events
END:VEVENT
BEGIN:VEVENT
DTSTART;VALUE=DATE:20211218
DTEND;VALUE=DATE:20211220
DTSTAMP:20260421T225253
CREATED:20211203T040411Z
LAST-MODIFIED:20211203T040411Z
UID:7666-1639803600-1639889999@education.delaware.gov
SUMMARY:2021 UC Holiday High School Invitational - Indoor Track (PA)
DESCRIPTION:DIAA Invited Schools: \nSalesianum \nCape Henlopen \nDMA \nMount Pleasant \nDover \nConrad \nGlasgow \nCharter Wilmington \nDickinson \nSmyrna \nAI duPont \nBrandywine \nPolytech \nWilmington Christian \nTatnall \nDelcastle \nSanford \nWilmington Friends \nUrsuline \n 
URL:https://education.delaware.gov/diaa/event/2021-uc-holiday-high-school-invitational-indoor-track-pa/
LOCATION:Ursinus College
CATEGORIES:Indoor Track,Sanctioned Events
END:VEVENT
BEGIN:VEVENT
DTSTART;VALUE=DATE:20211218
DTEND;VALUE=DATE:20211220
DTSTAMP:20260421T225253
CREATED:20211208T045345Z
LAST-MODIFIED:20211208T045345Z
UID:7746-1639803600-1639889999@education.delaware.gov
SUMMARY:Ed Bowie Classic Track & Field Invitational - Indoor Track (MD)
DESCRIPTION:DIAA Invited Schools: \nDover High School \nGlasgow High School
URL:https://education.delaware.gov/diaa/event/ed-bowie-classic-track-field-invitational-indoor-track-md/
CATEGORIES:Indoor Track,Sanctioned Events
END:VEVENT
BEGIN:VEVENT
DTSTART;VALUE=DATE:20211218
DTEND;VALUE=DATE:20211220
DTSTAMP:20260421T225253
CREATED:20211228T215131Z
LAST-MODIFIED:20211228T215131Z
UID:7820-1639803600-1639889999@education.delaware.gov
SUMMARY:Energice Coaches Hall of Fame Invitational - Indoor Track - NY (NFHS)
DESCRIPTION:visit www.nfhs.org for a list of invited schools \n 
URL:https://education.delaware.gov/diaa/event/energice-coaches-hall-of-fame-invitational-indoor-track-ny-nfhs/
CATEGORIES:Indoor Track,Sanctioned Events
END:VEVENT
BEGIN:VEVENT
DTSTART;VALUE=DATE:20211218
DTEND;VALUE=DATE:20211221
DTSTAMP:20260421T225253
CREATED:20211215T022721Z
LAST-MODIFIED:20211215T022721Z
UID:7762-1639803600-1639976399@education.delaware.gov
SUMMARY:Bishop Loughlin Games (NY) NFHS
DESCRIPTION:DIAA invited schools: visit www.nfhs.org for a complete list of invited schools \nCape Henlopen High School \nPadua Academy \nWilliam Penn High School
URL:https://education.delaware.gov/diaa/event/bishop-loughlin-games-ny-nfhs/
LOCATION:Bishop Loughlin HS
CATEGORIES:Indoor Track,Sanctioned Events
END:VEVENT
BEGIN:VEVENT
DTSTART;VALUE=DATE:20211219
DTEND;VALUE=DATE:20211221
DTSTAMP:20260421T225253
CREATED:20211228T212533Z
LAST-MODIFIED:20211228T212533Z
UID:7798-1639890000-1639976399@education.delaware.gov
SUMMARY:Wilmington Play by Play Classic 1 - Boys Basketball (DE)
DESCRIPTION:Invited Schools: visit https://www.thechasefieldhouse.com/playbyplay \nDIAA invited schools: \nDover HS \nHoward HS \nMiddletown HS \nSanford School
URL:https://education.delaware.gov/diaa/event/wilmington-play-by-play-classic-1-boys-basketball-de/
LOCATION:Chase Fieldhouse\, Wilmington\, DE
CATEGORIES:Boys Basketball,Sanctioned Events
END:VEVENT
BEGIN:VEVENT
DTSTART;VALUE=DATE:20211223
DTEND;VALUE=DATE:20211225
DTSTAMP:20260421T225253
CREATED:20211228T212846Z
LAST-MODIFIED:20211228T212846Z
UID:7803-1640235600-1640321999@education.delaware.gov
SUMMARY:Wilmington Play by Play Classic 2 - Boys Basketball (DE)
DESCRIPTION:Invited Schools: visit https://www.thechasefieldhouse.com/playbyplay \nDIAA Invited Schools: \nSalesianum School
URL:https://education.delaware.gov/diaa/event/wilmington-play-by-play-classic-2-boys-basketball-de/
LOCATION:Chase Fieldhouse\, Wilmington\, DE
CATEGORIES:Boys Lacrosse,Sanctioned Events
END:VEVENT
BEGIN:VEVENT
DTSTART;VALUE=DATE:20211226
DTEND;VALUE=DATE:20220101
DTSTAMP:20260421T225253
CREATED:20211228T215503Z
LAST-MODIFIED:20211228T215606Z
UID:7822-1640494800-1640926799@education.delaware.gov
SUMMARY:Governors Challenge Basketball Tournament Showcase Division - Boys Basketball - MD (NFHS)
DESCRIPTION:visit www.nfhs.org for a list of invited schools \nGirls and Boys – Governors Challenge Basketball Tournament \n 
URL:https://education.delaware.gov/diaa/event/governors-challenge-basketball-tournament-showcase-division-boys-basketball-md-nfhs/
CATEGORIES:Boys Basketball,Sanctioned Events
END:VEVENT
END:VCALENDAR