
BEGIN:VCALENDAR
VERSION:2.0
PRODID:-//Delaware Interscholastic Athletic Association - ECPv6.15.3//NONSGML v1.0//EN
CALSCALE:GREGORIAN
METHOD:PUBLISH
X-ORIGINAL-URL:https://education.delaware.gov/diaa/
X-WR-CALDESC:Events for Delaware Interscholastic Athletic Association
REFRESH-INTERVAL;VALUE=DURATION:PT1H
X-Robots-Tag:noindex
X-PUBLISHED-TTL:PT1H
BEGIN:VTIMEZONE
TZID:UTC
BEGIN:STANDARD
TZOFFSETFROM:+0000
TZOFFSETTO:+0000
TZNAME:UTC
DTSTART:20210101T050000
END:STANDARD
END:VTIMEZONE
BEGIN:VTIMEZONE
TZID:America/New_York
BEGIN:DAYLIGHT
TZOFFSETFROM:-0500
TZOFFSETTO:-0400
TZNAME:EDT
DTSTART:20210314T070000
END:DAYLIGHT
BEGIN:STANDARD
TZOFFSETFROM:-0400
TZOFFSETTO:-0500
TZNAME:EST
DTSTART:20211107T060000
END:STANDARD
END:VTIMEZONE
BEGIN:VEVENT
DTSTART;VALUE=DATE:20211006
DTEND;VALUE=DATE:20211008
DTSTAMP:20260423T190146
CREATED:20210902T194621Z
LAST-MODIFIED:20210902T194621Z
UID:6809-1633492800-1633579199@education.delaware.gov
SUMMARY:49th Annual Tidewater Fall Classic - NFHS Sanction Event
DESCRIPTION:Invited Schools – see NFHS Sanctioning Page \nwww.nfhs.org  
URL:https://education.delaware.gov/diaa/event/49th-annual-tidewater-fall-classic-nfhs-sanction-event/
LOCATION:DE
CATEGORIES:Cross Country,Sanctioned Events
END:VEVENT
BEGIN:VEVENT
DTSTART;VALUE=DATE:20211009
DTEND;VALUE=DATE:20211011
DTSTAMP:20260423T190146
CREATED:20211005T222440Z
LAST-MODIFIED:20211005T222440Z
UID:7121-1633752000-1633838399@education.delaware.gov
SUMMARY:Manhattan College Cross Country Invitational (NFHS)
DESCRIPTION:Invited Schools – see NFHS Sanction Website \nhttps://www.nfhs.org/Sanctioning/
URL:https://education.delaware.gov/diaa/event/manhattan-college-cross-country-invitational-nfhs/
LOCATION:Manhattan College\, NJ
CATEGORIES:Cross Country,Sanctioned Events
END:VEVENT
BEGIN:VEVENT
DTSTART;TZID=America/New_York:20211014T130000
DTEND;TZID=America/New_York:20211014T130500
DTSTAMP:20260423T190147
CREATED:20210805T183201Z
LAST-MODIFIED:20211012T061428Z
UID:5658-1634216400-1634216700@education.delaware.gov
SUMMARY:DIAA Board of Directors Meeting
DESCRIPTION:DIAA Board of Directors Meeting – Thursday\, October 14\, 2021 \n9am \nAGENDA \nThis is a WebEx Meeting and you must register prior to attending; the link is provided below. \nAnchor Location: Collette Educational Resource Center\, 35 Commerce Way\, Dover De 19904. \nAttendee link to register: https://de-doe.webex.com/de-doe/onstage/g.php?MTID=e814b68f32988ff12e48b394e7011b3af  \nPublic comments are welcomed. Please contact as at least 24 hours prior to the meeting at diaa@doe.k12.de.us.
URL:https://education.delaware.gov/diaa/event/diaa-board-of-directors-meeting-9/
LOCATION:Colette Education Resource Center\, 35 Commerce Way\, Suite 1\, Dover\, DE\, 19904
CATEGORIES:Board of Directors,BOD Meeting,Meeting
ORGANIZER;CN="DIAA":MAILTO:diaa@doe.k12.de.us
END:VEVENT
BEGIN:VEVENT
DTSTART;VALUE=DATE:20211015
DTEND;VALUE=DATE:20211017
DTSTAMP:20260423T190147
CREATED:20210902T195050Z
LAST-MODIFIED:20210902T195050Z
UID:6812-1634270400-1634356799@education.delaware.gov
SUMMARY:The Joe O'Neill Cross Country Invitational
DESCRIPTION:Invited Schools: \nDIAA Member Schools and Sun Valley – PA
URL:https://education.delaware.gov/diaa/event/the-joe-oneill-cross-country-invitational/
LOCATION:N5CTA
CATEGORIES:Cross Country,Sanctioned Events
END:VEVENT
BEGIN:VEVENT
DTSTART;TZID=America/New_York:20211018T230000
DTEND;TZID=America/New_York:20211018T230500
DTSTAMP:20260423T190147
CREATED:20211012T061719Z
LAST-MODIFIED:20211012T061719Z
UID:7171-1634598000-1634598300@education.delaware.gov
SUMMARY:DIAA Boys and Girls Basketball Committee Meeting
DESCRIPTION:Monday\, 10/18/2021 – 7pm \nVIRTUAL \nAGENDA \nYou can also dial in using your phone. United States: 1-415-655-0001.\nThe meeting number (access code) is 2623 397 9336\nhttps://de-doe.webex.com/de-doe/j.php?MTID=mf61bcb623debb7e4644b7943206c62a4\n\nPublic Comments are welcomed. Please notify us at least 24 hours in advance at diaa@doe.k12.de.us.
URL:https://education.delaware.gov/diaa/event/diaa-boys-and-girls-basketball-committee-meeting/
LOCATION:DE
CATEGORIES:Boys Basketball,Committee Meeting,Girls Basketball
ORGANIZER;CN="DIAA":MAILTO:diaa@doe.k12.de.us
END:VEVENT
BEGIN:VEVENT
DTSTART;TZID=UTC:20211020T230000
DTEND;TZID=UTC:20211020T230000
DTSTAMP:20260423T190147
CREATED:20210805T183201Z
LAST-MODIFIED:20210923T235952Z
UID:5659-1634770800-1634770800@education.delaware.gov
SUMMARY:Swimming & Diving Rules Clinic
DESCRIPTION:All Rules Clinics will be VIRTUAL via a webinar.  Attendees will need to register using the link below and then will receive an email with information to join the webinar.  The email link received to join the webinar will be how attendance is tracked for the Rules Clinics.  Attendees should not forward/share registration links.  Please note that attendees should join the webinar using a computer or tablet; attendees who join by phone will not have their attendance tracked automatically – and should email Coordinator Mark that they attended.  Everyone must register individually using the link below. \nSwimming & Diving:  10/20/21\, 7pm \nhttps://de-doe.webex.com/de-doe/j.php?RGID=ra71cf57648bbd439ba4390a1904bb89a  \n 
URL:https://education.delaware.gov/diaa/event/swimming-diving-rules-clinic/
LOCATION:DE
CATEGORIES:Rules Clinic,Swimming & Diving
END:VEVENT
BEGIN:VEVENT
DTSTART;VALUE=DATE:20211022
DTEND;VALUE=DATE:20211024
DTSTAMP:20260423T190147
CREATED:20211020T023343Z
LAST-MODIFIED:20211020T023343Z
UID:7206-1634875200-1634961599@education.delaware.gov
SUMMARY:Sandhill Seashore Cross Country Invitational (DE)
DESCRIPTION:DIAA Invited Schools: \nHigh Schools \nDelmarva Christian High School \nLaurel High School \nMilford High School \nWoodbridge High School \nSussex Tech High School \nMiddle Schools \nBeacon Middle School \nMariner Middle School \nSussex Academy
URL:https://education.delaware.gov/diaa/event/sandhill-seashore-cross-country-invitational-de/
LOCATION:Sandhill Fields\, Georgetown\, DE
CATEGORIES:Cross Country,Sanctioned Events
END:VEVENT
BEGIN:VEVENT
DTSTART;TZID=UTC:20211025T130000
DTEND;TZID=UTC:20211025T130500
DTSTAMP:20260423T190147
CREATED:20211025T073401Z
LAST-MODIFIED:20211025T073401Z
UID:7242-1635166800-1635167100@education.delaware.gov
SUMMARY:DIAA Rules and Regulations Committee Meeting
DESCRIPTION:DIAA Rules and Regulations Committee Meeting\, 9am \nAGENDA \nVirtual Meeting\n\nPublic Comments are welcomed. Please notify us at least 24 hours in advance at diaa@doe.k12.de.us.\nJoin from the meeting link \nhttps://de-doe.webex.com/de-doe/j.php?MTID=md2ab8c783e937426ac561e7ad446a85a \nJoin by meeting number \nMeeting number (access code): 2621 985 8899 \nMeeting password: Bt42v5pZvVP \nJoin by phone\n+1-415-655-0001 US Toll\nGlobal call-in numbers
URL:https://education.delaware.gov/diaa/event/diaa-rules-and-regulations-committee-meeting-3/
LOCATION:Colette Education Resource Center\, 35 Commerce Way\, Suite 1\, Dover\, DE\, 19904
CATEGORIES:DIAA,Rules & Regulations
ORGANIZER;CN="DIAA":MAILTO:diaa@doe.k12.de.us
END:VEVENT
BEGIN:VEVENT
DTSTART;TZID=UTC:20211025T230000
DTEND;TZID=UTC:20211025T230500
DTSTAMP:20260423T190147
CREATED:20210805T183205Z
LAST-MODIFIED:20210924T000129Z
UID:5661-1635202800-1635203100@education.delaware.gov
SUMMARY:Basketball Rules Clinic
DESCRIPTION:All Rules Clinics will be VIRTUAL via a webinar.  Attendees will need to register using the link below and then will receive an email with information to join the webinar.  The email link received to join the webinar will be how attendance is tracked for the Rules Clinics.  Attendees should not forward/share registration links.  Please note that attendees should join the webinar using a computer or tablet; attendees who join by phone will not have their attendance tracked automatically – and should email Coordinator Mark that they attended.  Everyone must register individually using the link below. \nBoys and Girls & Unified Basketball: 10/25/21\, 7pm \nhttps://de-doe.webex.com/de-doe/j.php?RGID=rf6c56bf38e7c96db677522f8e67f7539
URL:https://education.delaware.gov/diaa/event/basketball-rules-clinic/
LOCATION:DE
CATEGORIES:Boys Basketball,Girls Basketball,Rules Clinic,Unified Basketball
ORGANIZER;CN="DIAA":MAILTO:diaa@doe.k12.de.us
END:VEVENT
BEGIN:VEVENT
DTSTART;TZID=UTC:20211026T230000
DTEND;TZID=UTC:20211026T230500
DTSTAMP:20260423T190147
CREATED:20210805T183205Z
LAST-MODIFIED:20210924T000347Z
UID:5662-1635289200-1635289500@education.delaware.gov
SUMMARY:Wrestling Rules Clinic
DESCRIPTION:All Rules Clinics will be VIRTUAL via a webinar.  Attendees will need to register using the link below and then will receive an email with information to join the webinar.  The email link received to join the webinar will be how attendance is tracked for the Rules Clinics.  Attendees should not forward/share registration links.  Please note that attendees should join the webinar using a computer or tablet; attendees who join by phone will not have their attendance tracked automatically – and should email Coordinator Mark that they attended.  Everyone must register individually using the link below. \nWrestling: 10/26/21\, 7pm \nhttps://de-doe.webex.com/de-doe/j.php?RGID=r8f782cc03b4927b5a7c643d93513fed1 \n 
URL:https://education.delaware.gov/diaa/event/wrestling-rules-clinic/
LOCATION:DE
CATEGORIES:Rules Clinic,Wrestling
ORGANIZER;CN="DIAA":MAILTO:diaa@doe.k12.de.us
END:VEVENT
BEGIN:VEVENT
DTSTART;VALUE=DATE:20211027
DTEND;VALUE=DATE:20211029
DTSTAMP:20260423T190147
CREATED:20210902T195822Z
LAST-MODIFIED:20210902T195822Z
UID:6829-1635307200-1635393599@education.delaware.gov
SUMMARY:10th Annual Southern Delaware Middle School XC Invitational
DESCRIPTION:Invited Schools: \nAll DIAA Middle Schools
URL:https://education.delaware.gov/diaa/event/10th-annual-southern-delaware-middle-school-xc-invitational/
LOCATION:Brown’s Branch County Park
CATEGORIES:Cross Country,Sanctioned Events
END:VEVENT
BEGIN:VEVENT
DTSTART;VALUE=DATE:20211027
DTEND;VALUE=DATE:20211029
DTSTAMP:20260423T190147
CREATED:20210915T073748Z
LAST-MODIFIED:20210920T221413Z
UID:6963-1635307200-1635393599@education.delaware.gov
SUMMARY:Kent County Championships (DE)
DESCRIPTION:Invited Schools: \nCaesar Rodney High School \nDover High School \nEarly College High School \nFirst State Military High School \nLake Forest High School \nMilford High School \nSmyrna High School
URL:https://education.delaware.gov/diaa/event/kent-county-championships/
LOCATION:Killens Pond\, Felton\, DE
CATEGORIES:Cross Country,Sanctioned Events
END:VEVENT
BEGIN:VEVENT
DTSTART;TZID=UTC:20211027T230000
DTEND;TZID=UTC:20211027T230500
DTSTAMP:20260423T190147
CREATED:20211018T233745Z
LAST-MODIFIED:20211018T233745Z
UID:7197-1635375600-1635375900@education.delaware.gov
SUMMARY:DIAA Track and Field Committee Meeting
DESCRIPTION:Wednesday\, 10/21/21 – 7pm \nvirtual meeting \nPublic Comments are welcomed. Please notify us at least 24 hours in advance at diaa@doe.k12.de.us. \nAGENDA \nMeeting join information: \nhttps://de-doe.webex.com/de-doe/j.php?MTID=m139be4af1d9191ba340db28f9b69f553  \nYou can also dial in using your phone. United States: 1-415-655-0001. The meeting number (access code) is 2621 115 2617
URL:https://education.delaware.gov/diaa/event/diaa-track-and-field-committee-meeting-3/
LOCATION:DE
CATEGORIES:Committee Meeting,Indoor Track,Outdoor Track,Unified
ORGANIZER;CN="DIAA":MAILTO:diaa@doe.k12.de.us
END:VEVENT
BEGIN:VEVENT
DTSTART;VALUE=DATE:20211029
DTEND;VALUE=DATE:20211031
DTSTAMP:20260423T190147
CREATED:20210902T200006Z
LAST-MODIFIED:20210902T200006Z
UID:6833-1635480000-1635566399@education.delaware.gov
SUMMARY:9th Annual Central Delaware Middle School Volleyball Invitational
DESCRIPTION:Invited Schools: \nAll DIAA Middle Schools
URL:https://education.delaware.gov/diaa/event/9th-annual-central-delaware-middle-school-volleyball-invitational/
LOCATION:DE
CATEGORIES:Sanctioned Events,Volleyball
END:VEVENT
BEGIN:VEVENT
DTSTART;VALUE=DATE:20211029
DTEND;VALUE=DATE:20211031
DTSTAMP:20260423T190147
CREATED:20211005T192746Z
LAST-MODIFIED:20211005T192746Z
UID:7091-1635480000-1635566399@education.delaware.gov
SUMMARY:Blue Hen Conference Championships (DE)
DESCRIPTION:DIAA Invited Schools: \nA.I. duPont HS \nAppoquinimink HS \nBrandywine HS \nChristiana HS \nConcord HS \nDelcastle Tech HS \nDickinson School \nGlasgow HS \nHodgson Vo-Tech School \nHoward HS \nMcKean HS \nMiddletown HS \nMount Pleasant HS \nNewark HS \nOdessa HS \nSt. Georges  HS \nWilliam Penn HS
URL:https://education.delaware.gov/diaa/event/blue-hen-conference-championships-de/
LOCATION:Bellevue State Park\, Wilmington\, DE
CATEGORIES:Cross Country,Sanctioned Events
END:VEVENT
BEGIN:VEVENT
DTSTART;VALUE=DATE:20211030
DTEND;VALUE=DATE:20211101
DTSTAMP:20260423T190147
CREATED:20210805T183205Z
LAST-MODIFIED:20210805T183205Z
UID:5664-1635566400-1635652799@education.delaware.gov
SUMMARY:Last date of competition for Volleyball
DESCRIPTION:
URL:https://education.delaware.gov/diaa/event/last-date-of-competition-for-volleyball/
LOCATION:DE
CATEGORIES:Volleyball
END:VEVENT
BEGIN:VEVENT
DTSTART;TZID=UTC:20211031T130000
DTEND;TZID=UTC:20211031T130500
DTSTAMP:20260423T190147
CREATED:20211025T073641Z
LAST-MODIFIED:20211025T203356Z
UID:7244-1635685200-1635685500@education.delaware.gov
SUMMARY:DIAA Volleyball Committee Meeting
DESCRIPTION:DIAA Volleyball Committee Seeding Meeting\n\nAGENDA\n\n\nIn-Person\n\nPublic Comments are welcomed. Please notify us at least 24 hours in advance at diaa@doe.k12.de.us.
URL:https://education.delaware.gov/diaa/event/diaa-volleyball-committee-meeting/
LOCATION:Colette Education Resource Center\, 35 Commerce Way\, Suite 1\, Dover\, DE\, 19904
CATEGORIES:Committee Meeting,Volleyball
ORGANIZER;CN="DIAA":MAILTO:diaa@doe.k12.de.us
END:VEVENT
BEGIN:VEVENT
DTSTART;VALUE=DATE:20211103
DTEND;VALUE=DATE:20211106
DTSTAMP:20260423T190147
CREATED:20210805T183209Z
LAST-MODIFIED:20211102T193117Z
UID:5667-1635912000-1636084799@education.delaware.gov
SUMMARY:Volleyball 1st round
DESCRIPTION:DIAA VOLLEYBALL CHAMPIONSHIPS INFORMATION AND BRACKET
URL:https://education.delaware.gov/diaa/event/volleyball-1st-round/
LOCATION:DE
CATEGORIES:Volleyball
ORGANIZER;CN="DIAA":MAILTO:diaa@doe.k12.de.us
END:VEVENT
BEGIN:VEVENT
DTSTART;VALUE=DATE:20211104
DTEND;VALUE=DATE:20211106
DTSTAMP:20260423T190147
CREATED:20210805T183209Z
LAST-MODIFIED:20210805T183209Z
UID:5666-1635998400-1636084799@education.delaware.gov
SUMMARY:Last date of competition for Boys Soccer\, Field Hockey
DESCRIPTION:
URL:https://education.delaware.gov/diaa/event/last-date-of-competition-for-boys-soccer-field-hockey/
LOCATION:DE
CATEGORIES:Boys Soccer,Field Hockey
END:VEVENT
BEGIN:VEVENT
DTSTART;VALUE=DATE:20211105
DTEND;VALUE=DATE:20211108
DTSTAMP:20260423T190147
CREATED:20210805T183209Z
LAST-MODIFIED:20211105T171433Z
UID:5670-1636084800-1636257599@education.delaware.gov
SUMMARY:Volleyball 2nd round
DESCRIPTION:Volleyball Bracket and Championship Information
URL:https://education.delaware.gov/diaa/event/volleyball-2nd-round/
LOCATION:DE
CATEGORIES:Volleyball
END:VEVENT
BEGIN:VEVENT
DTSTART;TZID=UTC:20211105T130000
DTEND;TZID=UTC:20211105T130500
DTSTAMP:20260423T190147
CREATED:20210805T183209Z
LAST-MODIFIED:20211030T233655Z
UID:5668-1636117200-1636117500@education.delaware.gov
SUMMARY:Field Hockey Committee Meeting
DESCRIPTION:AGENDA \n9am \nThis is an in-person meeting. Masks are required in the building.\n\n\nLOCATION:\nConference Room C\nCollette Resource Center 35 Commerce Way\, Ste 1\, Dover DE 19904
URL:https://education.delaware.gov/diaa/event/field-hockey-committee-meeting/
LOCATION:Colette Education Resource Center\, 35 Commerce Way\, Suite 1\, Dover\, DE\, 19904
CATEGORIES:Committee Meeting,Field Hockey,Meeting
ORGANIZER;CN="DIAA":MAILTO:diaa@doe.k12.de.us
END:VEVENT
BEGIN:VEVENT
DTSTART;TZID=UTC:20211105T130000
DTEND;TZID=UTC:20211105T130500
DTSTAMP:20260423T190147
CREATED:20210805T183209Z
LAST-MODIFIED:20211030T233901Z
UID:5669-1636117200-1636117500@education.delaware.gov
SUMMARY:Boys Soccer Committee Meeting
DESCRIPTION:AGENDA \nThis is an in-person meeting. Mask are required in the building.\n\nLOCATION:\nSmyrna High School\, 500 Duck Creek Parkway\, Smyrna\, DE 19977
URL:https://education.delaware.gov/diaa/event/boys-soccer-committee-meeting/
LOCATION:Smyrna High School
CATEGORIES:Boys Soccer,Committee Meeting,Meeting
ORGANIZER;CN="DIAA":MAILTO:diaa@doe.k12.de.us
END:VEVENT
BEGIN:VEVENT
DTSTART;VALUE=DATE:20211106
DTEND;VALUE=DATE:20211108
DTSTAMP:20260423T190147
CREATED:20211018T195200Z
LAST-MODIFIED:20211018T195200Z
UID:7189-1636171200-1636257599@education.delaware.gov
SUMMARY:New Castle County Championships (DE)
DESCRIPTION:Invited Schools: \nAI duPont HS \nAppoquinimink HS \nArchmere Academy \nBrandywine HS \nCaravel Academy \nCentreville Layton School \nCharter School of Wilmington \nChristiana HS \nConcord HS \nConrad Schools of Science \nDelaware Military Academy \nDelcastle Tech HS \nDickinson School \nHodgson Vo-Tech HS \nHoward HS \nMcKean HS \nMiddletown HS \nMount Pleasant HS \nMOT Charter \nNewark HS \nNewark Charter School \nOdessa HS \nSalesianum School \nSanford School \nSt. Andrew’s School \nSt. Elizabeth School \nSt. Georges Tech HS \nSt. Mark’s HS \nTatnall School \nTower Hill School \nWilliam Penn HS \nWilmington Christian School \nWilmington Friends School \nPadua Academy \nUrsuline Academy \nOdyssey Charter School \n 
URL:https://education.delaware.gov/diaa/event/new-castle-county-championships-de/
LOCATION:Winterthur Estate
CATEGORIES:Cross Country,Sanctioned Events
END:VEVENT
BEGIN:VEVENT
DTSTART;VALUE=DATE:20211108
DTEND;VALUE=DATE:20211110
DTSTAMP:20260423T190147
CREATED:20210805T183222Z
LAST-MODIFIED:20210805T183222Z
UID:5671-1636347600-1636433999@education.delaware.gov
SUMMARY:First date of winter sports practice
DESCRIPTION:
URL:https://education.delaware.gov/diaa/event/first-date-of-winter-sports-practice/
LOCATION:DE
CATEGORIES:DIAA
END:VEVENT
BEGIN:VEVENT
DTSTART;TZID=UTC:20211108T230000
DTEND;TZID=UTC:20211108T230500
DTSTAMP:20260423T190147
CREATED:20211102T235157Z
LAST-MODIFIED:20211102T235829Z
UID:7357-1636412400-1636412700@education.delaware.gov
SUMMARY:DIAA Sports Medicine Advisory Committee Meeting
DESCRIPTION:Meeting Agenda \nVirtual Meeting \nThis is a WebEx Virtual Meeting that you may join via computer\, tablet or smartphone.\nPublic Comments are welcomed. Please notify us at least 24 hours in advance at diaa@doe.k12.de.us. \nJoin from the meeting link\nhttps://de-doe.webex.com/de-doe/j.php?MTID=m0c2e505bd4cb3b1f0ecc86a5d4a90f8f  \nJoin by meeting number\nMeeting number (access code): 2622 444 1618\nMeeting password: mRu6yKvBu65 \nJoin by phone\n+1-415-655-0001 US Toll
URL:https://education.delaware.gov/diaa/event/diaa-sports-medicine-advisory-committee-meeting-3/
LOCATION:DE
CATEGORIES:Committee Meeting,Sports Medicine
ORGANIZER;CN="DIAA":MAILTO:diaa@doe.k12.de.us
END:VEVENT
BEGIN:VEVENT
DTSTART;TZID=UTC:20211109T050000
DTEND;TZID=UTC:20211109T050000
DTSTAMP:20260423T190147
CREATED:20210805T183222Z
LAST-MODIFIED:20210805T183222Z
UID:5672-1636434000-1636434000@education.delaware.gov
SUMMARY:DII Field Hockey 1st Round
DESCRIPTION:
URL:https://education.delaware.gov/diaa/event/dii-field-hockey-1st-round/
LOCATION:DE
CATEGORIES:Field Hockey
END:VEVENT
BEGIN:VEVENT
DTSTART;VALUE=DATE:20211109
DTEND;VALUE=DATE:20211111
DTSTAMP:20260423T190147
CREATED:20210805T183222Z
LAST-MODIFIED:20211109T235256Z
UID:5673-1636434000-1636520399@education.delaware.gov
SUMMARY:Volleyball Quarterfinals
DESCRIPTION:VOLLEYBALL BRACKET
URL:https://education.delaware.gov/diaa/event/volleyball-quarterfinals/
LOCATION:DE
CATEGORIES:Volleyball
END:VEVENT
BEGIN:VEVENT
DTSTART;TZID=UTC:20211109T230000
DTEND;TZID=UTC:20211110T020000
DTSTAMP:20260423T190147
CREATED:20210805T183222Z
LAST-MODIFIED:20211109T235153Z
UID:5674-1636498800-1636509600@education.delaware.gov
SUMMARY:DII Boys Soccer 1st round
DESCRIPTION:DIAA  BOYS SOCCER BRACKET
URL:https://education.delaware.gov/diaa/event/dii-boys-soccer-1st-round/
LOCATION:DE
CATEGORIES:Boys Soccer
END:VEVENT
BEGIN:VEVENT
DTSTART;VALUE=DATE:20211110
DTEND;VALUE=DATE:20211112
DTSTAMP:20260423T190147
CREATED:20210805T183222Z
LAST-MODIFIED:20211109T235441Z
UID:5675-1636520400-1636606799@education.delaware.gov
SUMMARY:D1 Boys Soccer Quarterfinals
DESCRIPTION:BOYS SOCCER BRACKET
URL:https://education.delaware.gov/diaa/event/di-boys-soc-quarterfinals/
LOCATION:DE
CATEGORIES:Boys Soccer
END:VEVENT
BEGIN:VEVENT
DTSTART;VALUE=DATE:20211111
DTEND;VALUE=DATE:20211113
DTSTAMP:20260423T190147
CREATED:20210805T183237Z
LAST-MODIFIED:20211109T235711Z
UID:5680-1636606800-1636693199@education.delaware.gov
SUMMARY:Veterans Day
DESCRIPTION:
URL:https://education.delaware.gov/diaa/event/veterans-day/
LOCATION:DE
CATEGORIES:Holiday
END:VEVENT
END:VCALENDAR