
BEGIN:VCALENDAR
VERSION:2.0
PRODID:-//Delaware Interscholastic Athletic Association - ECPv6.15.3//NONSGML v1.0//EN
CALSCALE:GREGORIAN
METHOD:PUBLISH
X-ORIGINAL-URL:https://education.delaware.gov/diaa/
X-WR-CALDESC:Events for Delaware Interscholastic Athletic Association
REFRESH-INTERVAL;VALUE=DURATION:PT1H
X-Robots-Tag:noindex
X-PUBLISHED-TTL:PT1H
BEGIN:VTIMEZONE
TZID:UTC
BEGIN:STANDARD
TZOFFSETFROM:+0000
TZOFFSETTO:+0000
TZNAME:UTC
DTSTART:20210101T050000
END:STANDARD
END:VTIMEZONE
BEGIN:VEVENT
DTSTART;TZID=UTC:20210802T130000
DTEND;TZID=UTC:20210802T130000
DTSTAMP:20260422T225255
CREATED:20210805T183135Z
LAST-MODIFIED:20210805T183135Z
UID:5636-1627909200-1627909200@education.delaware.gov
SUMMARY:DAAD New Athletic Directors Workshop
DESCRIPTION:
URL:https://education.delaware.gov/diaa/event/daad-new-athletic-directors-workshop/
LOCATION:DE
CATEGORIES:DAAD
END:VEVENT
BEGIN:VEVENT
DTSTART;TZID=UTC:20210802T230000
DTEND;TZID=UTC:20210802T230000
DTSTAMP:20260422T225255
CREATED:20210805T183135Z
LAST-MODIFIED:20210805T183135Z
UID:5637-1627945200-1627945200@education.delaware.gov
SUMMARY:Football Rules Clinic
DESCRIPTION:
URL:https://education.delaware.gov/diaa/event/football-rules-clinic/
LOCATION:DE
CATEGORIES:Football,Rules Clinic
END:VEVENT
BEGIN:VEVENT
DTSTART;TZID=UTC:20210803T130000
DTEND;TZID=UTC:20210803T130000
DTSTAMP:20260422T225255
CREATED:20210805T183135Z
LAST-MODIFIED:20210805T183135Z
UID:5639-1627995600-1627995600@education.delaware.gov
SUMMARY:DAAD New Athletic Directors Workshop
DESCRIPTION:
URL:https://education.delaware.gov/diaa/event/daad-new-athletic-directors-workshop-2/
LOCATION:DE
CATEGORIES:DAAD
END:VEVENT
BEGIN:VEVENT
DTSTART;TZID=UTC:20210803T230000
DTEND;TZID=UTC:20210803T230000
DTSTAMP:20260422T225255
CREATED:20210805T183135Z
LAST-MODIFIED:20210805T183135Z
UID:5638-1628031600-1628031600@education.delaware.gov
SUMMARY:Soccer Rules Clinic
DESCRIPTION:
URL:https://education.delaware.gov/diaa/event/soccer-rules-clinic/
LOCATION:DE
CATEGORIES:Boys Soccer,Girls Soccer,Rules Clinic
END:VEVENT
BEGIN:VEVENT
DTSTART;TZID=UTC:20210804T130000
DTEND;TZID=UTC:20210804T130000
DTSTAMP:20260422T225255
CREATED:20210805T183136Z
LAST-MODIFIED:20210805T183136Z
UID:5641-1628082000-1628082000@education.delaware.gov
SUMMARY:DAAD Meeting
DESCRIPTION:
URL:https://education.delaware.gov/diaa/event/daad-meeting/
LOCATION:DE
CATEGORIES:DAAD
END:VEVENT
BEGIN:VEVENT
DTSTART;TZID=UTC:20210804T230000
DTEND;TZID=UTC:20210804T230000
DTSTAMP:20260422T225255
CREATED:20210805T183135Z
LAST-MODIFIED:20210805T183135Z
UID:5640-1628118000-1628118000@education.delaware.gov
SUMMARY:Field Hockey Rules Clinic
DESCRIPTION:
URL:https://education.delaware.gov/diaa/event/field-hockey-rules-clinic/
LOCATION:DE
CATEGORIES:Field Hockey,Rules Clinic
END:VEVENT
BEGIN:VEVENT
DTSTART;TZID=UTC:20210805T230000
DTEND;TZID=UTC:20210805T230000
DTSTAMP:20260422T225255
CREATED:20210805T183137Z
LAST-MODIFIED:20210805T183137Z
UID:5642-1628204400-1628204400@education.delaware.gov
SUMMARY:Volleyball  Rules Clinic
DESCRIPTION:
URL:https://education.delaware.gov/diaa/event/volleyball-rules-clinic/
LOCATION:DE
CATEGORIES:Rules Clinic,Volleyball
END:VEVENT
BEGIN:VEVENT
DTSTART;VALUE=DATE:20210806
DTEND;VALUE=DATE:20210808
DTSTAMP:20260422T225255
CREATED:20210805T183137Z
LAST-MODIFIED:20210805T183137Z
UID:5643-1628222400-1628308799@education.delaware.gov
SUMMARY:1st day of Football Practice 3A (*schools with waiver approved)
DESCRIPTION:
URL:https://education.delaware.gov/diaa/event/1st-day-of-football-practice-3a-schools-with-waiver-approved/
LOCATION:DE
CATEGORIES:DIAA
END:VEVENT
BEGIN:VEVENT
DTSTART;TZID=UTC:20210807T130000
DTEND;TZID=UTC:20210807T130000
DTSTAMP:20260422T225255
CREATED:20210805T183137Z
LAST-MODIFIED:20210805T183137Z
UID:5644-1628341200-1628341200@education.delaware.gov
SUMMARY:NDFOA Football Rules Clinic
DESCRIPTION:
URL:https://education.delaware.gov/diaa/event/ndfoa-football-rules-clinic/
LOCATION:DE
CATEGORIES:Football,Rules Clinic
END:VEVENT
BEGIN:VEVENT
DTSTART;TZID=UTC:20210808T040000
DTEND;TZID=UTC:20210810T040000
DTSTAMP:20260422T225255
CREATED:20210805T183137Z
LAST-MODIFIED:20210805T183137Z
UID:5645-1628395200-1628568000@education.delaware.gov
SUMMARY:NFHS National Student Leadership Summit
DESCRIPTION:
URL:https://education.delaware.gov/diaa/event/nfhs-national-student-leadership-summit/
LOCATION:DE
CATEGORIES:NFHS
END:VEVENT
BEGIN:VEVENT
DTSTART;VALUE=DATE:20210809
DTEND;VALUE=DATE:20210811
DTSTAMP:20260422T225255
CREATED:20210805T183146Z
LAST-MODIFIED:20210805T183146Z
UID:5646-1628481600-1628567999@education.delaware.gov
SUMMARY:1st day of Football Practice 1A & 2A (*schools with waiver approved)
DESCRIPTION:
URL:https://education.delaware.gov/diaa/event/1st-day-of-football-practice-1a-2a-schools-with-waiver-approved/
LOCATION:DE
CATEGORIES:DIAA
END:VEVENT
BEGIN:VEVENT
DTSTART;TZID=UTC:20210812T130000
DTEND;TZID=UTC:20210812T130000
DTSTAMP:20260422T225255
CREATED:20210805T183146Z
LAST-MODIFIED:20210827T194529Z
UID:5647-1628773200-1628773200@education.delaware.gov
SUMMARY:DIAA Board of Directors Meeting
DESCRIPTION:
URL:https://education.delaware.gov/diaa/event/diaa-board-of-directors-meeting-7-2/
LOCATION:DE
CATEGORIES:Board of Directors,BOD Meeting,Meeting
END:VEVENT
BEGIN:VEVENT
DTSTART;VALUE=DATE:20210816
DTEND;VALUE=DATE:20210818
DTSTAMP:20260422T225255
CREATED:20210805T183146Z
LAST-MODIFIED:20210805T183146Z
UID:5648-1629086400-1629172799@education.delaware.gov
SUMMARY:1st day of Fall Sports Practice
DESCRIPTION:
URL:https://education.delaware.gov/diaa/event/1st-day-of-fall-sports-practice/
LOCATION:DE
CATEGORIES:DIAA
END:VEVENT
BEGIN:VEVENT
DTSTART;TZID=UTC:20210819T130000
DTEND;TZID=UTC:20210819T210000
DTSTAMP:20260422T225255
CREATED:20210819T193913Z
LAST-MODIFIED:20210827T194529Z
UID:6212-1629378000-1629406800@education.delaware.gov
SUMMARY:DIAA Board of Directors Special Meeting
DESCRIPTION:DIAA Board of Directors Special Meeting \nThursday\, 8/19\, 9:00am \nAgenda  \nThis is a WebEx Meeting and you must register prior to attending; the link is provided below.  After registering\, you will receive a confirmation email containing information about joining the webinar. \nAnchor Location: Collette Education Resource Center \nhttps://de-doe.webex.com/de-doe/j.php?RGID=r8cb70d2679ba811dc6b8013b2a2026b5  \nPublic comments are welcomed. Please contact as at least 24 hours prior to the meeting at diaa@doe.k12.de.us. \n\n\n\nContact\nEmail: diaa@doe.k12.de.us
URL:https://education.delaware.gov/diaa/event/diaa-board-of-directors-special-meeting-4/
LOCATION:DE
CATEGORIES:Board of Directors,BOD Meeting,Meeting
END:VEVENT
BEGIN:VEVENT
DTSTART;VALUE=DATE:20210901
DTEND;VALUE=DATE:20210903
DTSTAMP:20260422T225255
CREATED:20210805T183146Z
LAST-MODIFIED:20210805T183146Z
UID:5650-1630468800-1630555199@education.delaware.gov
SUMMARY:1st date of allowable competition for football (schools with waiver approved)
DESCRIPTION:
URL:https://education.delaware.gov/diaa/event/1st-date-of-allowable-competition-for-football-schools-with-waiver-approved/
LOCATION:DE
CATEGORIES:DIAA
END:VEVENT
BEGIN:VEVENT
DTSTART;VALUE=DATE:20210906
DTEND;VALUE=DATE:20210908
DTSTAMP:20260422T225255
CREATED:20210805T183158Z
LAST-MODIFIED:20210821T003608Z
UID:5651-1630900800-1630987199@education.delaware.gov
SUMMARY:Labor Day
DESCRIPTION:
URL:https://education.delaware.gov/diaa/event/labor-day/
LOCATION:DE
CATEGORIES:Holiday
END:VEVENT
BEGIN:VEVENT
DTSTART;VALUE=DATE:20210908
DTEND;VALUE=DATE:20210910
DTSTAMP:20260422T225255
CREATED:20210805T183158Z
LAST-MODIFIED:20210805T183158Z
UID:5652-1631073600-1631159999@education.delaware.gov
SUMMARY:1st date of allowable competition for fall sports
DESCRIPTION:
URL:https://education.delaware.gov/diaa/event/1st-date-of-allowable-competition-for-fall-sports/
LOCATION:DE
CATEGORIES:DIAA
END:VEVENT
BEGIN:VEVENT
DTSTART;TZID=UTC:20210909T130000
DTEND;TZID=UTC:20210909T130000
DTSTAMP:20260422T225255
CREATED:20210805T183158Z
LAST-MODIFIED:20210908T084913Z
UID:5653-1631192400-1631192400@education.delaware.gov
SUMMARY:DIAA Board of Directors Meeting
DESCRIPTION:DIAA Board of Directors Meeting \nThursday\, September 9 – 9:00am \nAGENDA \nThis is a WebEx Meeting and you must register prior to attending; the link is provided below. \nAfter registering\, you will receive a confirmation email containing information about joining the webinar.\nhttps://de-doe.webex.com/de-doe/onstage/g.php?MTID=ef1c40a79a950ede2d76b3c9b0b6b10f4\nAnchor Location: Collette Educational Resource Center\, 35 Commerce Way\, Dover DD 19904. \nPublic comments are welcomed. Please contact DIAA at least 24 hours prior to the meeting at diaa@doe.k12.de.us.
URL:https://education.delaware.gov/diaa/event/diaa-board-of-directors-meeting-8/
LOCATION:DE
CATEGORIES:Board of Directors,BOD Meeting,Meeting
ORGANIZER;CN="Tanya Reed":MAILTO:diaa@doe.k12.de.us
END:VEVENT
BEGIN:VEVENT
DTSTART;VALUE=DATE:20210910
DTEND;VALUE=DATE:20210912
DTSTAMP:20260422T225255
CREATED:20210908T202452Z
LAST-MODIFIED:20210908T202452Z
UID:6877-1631246400-1631332799@education.delaware.gov
SUMMARY:Harry Groves Spiked Shoe Invitational - NFHS Sanctioned
DESCRIPTION:DIAA Invited School – Ursuline Academy (may only compete against approved schools)
URL:https://education.delaware.gov/diaa/event/harry-groves-spiked-shoe-invitational-nfhs-sanctioned/
LOCATION:Penn State University\, University Park\, PA\, United States
CATEGORIES:Cross Country,Sanctioned Events
END:VEVENT
BEGIN:VEVENT
DTSTART;VALUE=DATE:20210911
DTEND;VALUE=DATE:20210913
DTSTAMP:20260422T225255
CREATED:20210825T233718Z
LAST-MODIFIED:20210825T233718Z
UID:6554-1631332800-1631419199@education.delaware.gov
SUMMARY:One Journey High School Football Classic - NFHS Sanction Event
DESCRIPTION:Invited Schools \n\n\nAppoquinimink High School\n1080 Bunker Hill Rd\, Middletown\, Delaware 19709\nVarsity\n\n\n\n\n\nDELAWARE MILITARY ACADEMY\n112 Middleboro Rd\, Wilmington\, Delaware 19804\nVarsity\n\n\n\n\n\nWilliam Penn High School\n713 E Basin Rd\, New Castle\, Delaware 19720\nVarsity\n\n\n\n\n\nMonsignor Bonner & Archbishop Prendergast Catholic High School\n403 N Lansdowne Ave\, Drexel Hill\, Pennsylvania 19026\nVarsity\n\n\n\n\n\nOlney Charter High School\n100 E Duncannon Ave\, Philadelphia\, Pennsylvania 19120\nVarsity\n\n\n\n\n\nPenn Wood High School\n100 Green Ave\, Lansdowne\, Pennsylvania 19050\nVarsity
URL:https://education.delaware.gov/diaa/event/one-journey-high-school-football-classic-nfhs-sanction-event/
LOCATION:Caravel Academy
CATEGORIES:Football,Sanctioned Events
END:VEVENT
BEGIN:VEVENT
DTSTART;VALUE=DATE:20210911
DTEND;VALUE=DATE:20210913
DTSTAMP:20260422T225255
CREATED:20210907T174859Z
LAST-MODIFIED:20210907T174859Z
UID:6855-1631332800-1631419199@education.delaware.gov
SUMMARY:Unionville Cross Country Two-Mile Bash
DESCRIPTION:Invited DIAA Schools: \nArchmere Academy \nBrandywine high School \nConcord high School \nNewark Charter School \nNewark High School \nPadua Academy \nSalesianum School \nSaint Mark’s High School \nTatnall School \nTower Hill School \nUrsuline Academy
URL:https://education.delaware.gov/diaa/event/unionville-cross-country-two-mile-bash/
LOCATION:DE
CATEGORIES:Cross Country,Sanctioned Events
END:VEVENT
BEGIN:VEVENT
DTSTART;VALUE=DATE:20210911
DTEND;VALUE=DATE:20210913
DTSTAMP:20260422T225255
CREATED:20210908T201751Z
LAST-MODIFIED:20210908T201751Z
UID:6874-1631332800-1631419199@education.delaware.gov
SUMMARY:Lake Forest Cross Country Festival - NFHS Event
DESCRIPTION:Invited School – See NFHS Website
URL:https://education.delaware.gov/diaa/event/lake-forest-cross-country-festival-nfhs-event/
LOCATION:Lake Forest HS\, Felton\, Delaware
CATEGORIES:Cross Country,Sanctioned Events
END:VEVENT
BEGIN:VEVENT
DTSTART;VALUE=DATE:20210911
DTEND;VALUE=DATE:20210913
DTSTAMP:20260422T225255
CREATED:20210910T024327Z
LAST-MODIFIED:20210910T024327Z
UID:6913-1631332800-1631419199@education.delaware.gov
SUMMARY:Cherokee Challenge
DESCRIPTION:DIAA Invited Schools: \nSalesianum School
URL:https://education.delaware.gov/diaa/event/cherokee-challenge/
LOCATION:Cherokee High School\, Marlton\, NJ\, 08033
CATEGORIES:Cross Country,Sanctioned Events
END:VEVENT
BEGIN:VEVENT
DTSTART;TZID=UTC:20210916T130000
DTEND;TZID=UTC:20210916T150000
DTSTAMP:20260422T225255
CREATED:20210909T235659Z
LAST-MODIFIED:20210909T235659Z
UID:6903-1631797200-1631804400@education.delaware.gov
SUMMARY:Unified Sports Committee Meeting
DESCRIPTION:Unified Sports Committee Meeting\nThursday\, September 16 – 9:00 a.m.\nVideo Conference Call*\n\n\n\n\n\n\n\n\n\n\n* In accordance with 29 Del. C. § 10006A(c)\, the DIAA Unified Sports Committee meeting will be held virtually by video conference call. Members of the public can monitor the meeting and provide public comment virtually by joining using the following link https://de-doe.webex.com/dedoe/j.php?MTID=mfdab6901f3300c8c2a830a93aa372ea5 or by phone at +1-415-655-0001 . The meeting number (access code) is 2623 371 8158 and member password is N4mPmtPRU77.\n\n\n\nMeeting Agenda\n\n\n\n\n\nPublic Comments are welcomed. Please notify us at least 24 hours in advance at diaa@doe.k12.de.us.
URL:https://education.delaware.gov/diaa/event/unified-sports-committee-meeting-3/
LOCATION:DE
CATEGORIES:Unified Football
ORGANIZER;CN="DIAA":MAILTO:diaa@doe.k12.de.us
END:VEVENT
BEGIN:VEVENT
DTSTART;VALUE=DATE:20210917
DTEND;VALUE=DATE:20210919
DTSTAMP:20260422T225255
CREATED:20210826T000539Z
LAST-MODIFIED:20210916T183224Z
UID:6571-1631851200-1631937599@education.delaware.gov
SUMMARY:White Clay Creek Classic - NFHS Sanction
DESCRIPTION:Invited Schools:  DIAA approved member schools \nVisit www.nfhs.org for a complete list of invited Delaware Schools
URL:https://education.delaware.gov/diaa/event/white-clay-creek-classic/
LOCATION:DE
CATEGORIES:Cross Country,Sanctioned Events
END:VEVENT
BEGIN:VEVENT
DTSTART;VALUE=DATE:20210917
DTEND;VALUE=DATE:20210919
DTSTAMP:20260422T225255
CREATED:20210902T181200Z
LAST-MODIFIED:20210902T181200Z
UID:6794-1631851200-1631937599@education.delaware.gov
SUMMARY:Middletown Invitational
DESCRIPTION:Invited Schools:  \nDIAA Member Schools
URL:https://education.delaware.gov/diaa/event/middletown-invitational/
LOCATION:Lums Pond
CATEGORIES:Cross Country,Sanctioned Events
END:VEVENT
BEGIN:VEVENT
DTSTART;VALUE=DATE:20210918
DTEND;VALUE=DATE:20210920
DTSTAMP:20260422T225255
CREATED:20210825T225406Z
LAST-MODIFIED:20210825T225406Z
UID:6518-1631937600-1632023999@education.delaware.gov
SUMMARY:Atkinson XC Invitational
DESCRIPTION:DE Invited School – Archmere Academy \n  \nMeet Contact: Kevin Kee \nPIAA Event
URL:https://education.delaware.gov/diaa/event/atkinson-xc-invitational/
LOCATION:DE
CATEGORIES:Cross Country,Sanctioned Events
END:VEVENT
BEGIN:VEVENT
DTSTART;VALUE=DATE:20210918
DTEND;VALUE=DATE:20210920
DTSTAMP:20260422T225255
CREATED:20210917T211804Z
LAST-MODIFIED:20210920T210543Z
UID:7005-1631937600-1632023999@education.delaware.gov
SUMMARY:Briarwood Invitational – NFHS Sanction
DESCRIPTION:Cross Country \nVisit www.nfhs.org for a complete list of invited Delaware Schools – https://www.nfhs.org/Sanctioning/Event/Index/30587  \nEvent Manager Information\nGregory Bielecki \nOrganization – Briarwood Running Camp \n\nbriarwoodrunningcamp@gmail.com\n\n\nPhone   267-481-3157
URL:https://education.delaware.gov/diaa/event/briarwood-invitational-nfhs-sanction-2/
LOCATION:La Salle College High School\, Wyndmoor\, PA
CATEGORIES:Cross Country,NFHS,Sanctioned Events
END:VEVENT
BEGIN:VEVENT
DTSTART;TZID=UTC:20210919T130000
DTEND;TZID=UTC:20210919T150000
DTSTAMP:20260422T225255
CREATED:20210910T000815Z
LAST-MODIFIED:20210917T201439Z
UID:6910-1632056400-1632063600@education.delaware.gov
SUMMARY:DIAA Wrestling Committee Meeting
DESCRIPTION:9am \nAGENDA \nIn person only meeting – This is an in-person meeting. Masks are required to enter the building. \nMeeting location:  Smyrna High School\, 500 Duck Creek Parkway\, Smyrna\, DE 19977
URL:https://education.delaware.gov/diaa/event/diaa-wrestling-committee-meeting-4/
LOCATION:Smyrna High School
CATEGORIES:Committee Meeting,Wrestling
ORGANIZER;CN="DIAA":MAILTO:diaa@doe.k12.de.us
END:VEVENT
BEGIN:VEVENT
DTSTART;VALUE=DATE:20210920
DTEND;VALUE=DATE:20210922
DTSTAMP:20260422T225255
CREATED:20210913T231819Z
LAST-MODIFIED:20210913T231819Z
UID:6926-1632110400-1632196799@education.delaware.gov
SUMMARY:Middle School Sports - 1st date of competition
DESCRIPTION:Middle School Sports – 1st date of competition \nPractice and Competition Dates through 2024
URL:https://education.delaware.gov/diaa/event/middle-school-sports-1st-date-of-competition/
LOCATION:DE
CATEGORIES:NFHS
END:VEVENT
END:VCALENDAR