
BEGIN:VCALENDAR
VERSION:2.0
PRODID:-//Delaware Interscholastic Athletic Association - ECPv6.15.3//NONSGML v1.0//EN
CALSCALE:GREGORIAN
METHOD:PUBLISH
X-WR-CALNAME:Delaware Interscholastic Athletic Association
X-ORIGINAL-URL:https://education.delaware.gov/diaa/
X-WR-CALDESC:Events for Delaware Interscholastic Athletic Association
REFRESH-INTERVAL;VALUE=DURATION:PT1H
X-Robots-Tag:noindex
X-PUBLISHED-TTL:PT1H
BEGIN:VTIMEZONE
TZID:America/New_York
BEGIN:DAYLIGHT
TZOFFSETFROM:-0500
TZOFFSETTO:-0400
TZNAME:EDT
DTSTART:20220313T070000
END:DAYLIGHT
BEGIN:STANDARD
TZOFFSETFROM:-0400
TZOFFSETTO:-0500
TZNAME:EST
DTSTART:20221106T060000
END:STANDARD
BEGIN:DAYLIGHT
TZOFFSETFROM:-0500
TZOFFSETTO:-0400
TZNAME:EDT
DTSTART:20230312T070000
END:DAYLIGHT
BEGIN:STANDARD
TZOFFSETFROM:-0400
TZOFFSETTO:-0500
TZNAME:EST
DTSTART:20231105T060000
END:STANDARD
END:VTIMEZONE
BEGIN:VEVENT
DTSTART;VALUE=DATE:20221226
DTEND;VALUE=DATE:20230202
DTSTAMP:20260424T084458
CREATED:20221116T053920Z
LAST-MODIFIED:20221116T053920Z
UID:10513-1672030800-1675227599@education.delaware.gov
SUMMARY:Boardwalk Basketball Classic (NJ) - NFHS
DESCRIPTION:DIAA Invited Schools: \nAppoquinimink \nGreat Oak Charter \nLaurel \n  \n  \nposted 11/16/22
URL:https://education.delaware.gov/diaa/event/boardwalk-basketball-classic-nj-nfhs/
LOCATION:DE
CATEGORIES:Boys Basketball,Girls Basketball,Sanctioned Events
END:VEVENT
BEGIN:VEVENT
DTSTART;TZID=America/New_York:20230104T200000
DTEND;TZID=America/New_York:20230104T230000
DTSTAMP:20260424T084458
CREATED:20221104T210743Z
LAST-MODIFIED:20221104T210743Z
UID:10445-1672862400-1672873200@education.delaware.gov
SUMMARY:MD - Bayside Conference Invitational - Indoor Track
DESCRIPTION:DIAA Invited Schools: \nCape \nSmyrna \nCaesar Rodney \nDover \nSeaford \nLake Forest \nSussex Academy \nMilford \nAppoquinimink \nSt. Georges \n  \nposted 11/4/22
URL:https://education.delaware.gov/diaa/event/md-bayside-conference-invitational-indoor-track-2/
LOCATION:Kent Island High School
CATEGORIES:Indoor Track,Sanctioned Events
END:VEVENT
BEGIN:VEVENT
DTSTART;VALUE=DATE:20230106
DTEND;VALUE=DATE:20230108
DTSTAMP:20260424T084458
CREATED:20221220T235233Z
LAST-MODIFIED:20221220T235233Z
UID:10717-1672981200-1673067599@education.delaware.gov
SUMMARY:DVGTCA Winter Series Meet #5 - Indoor Track (PA)
DESCRIPTION:DIAA Invited Schools: \nPadua \nposted 12/20/22
URL:https://education.delaware.gov/diaa/event/dvgtca-winter-series-meet-5-indoor-track-pa/
LOCATION:DE
CATEGORIES:Indoor Track,Sanctioned Events
END:VEVENT
BEGIN:VEVENT
DTSTART;VALUE=DATE:20230106
DTEND;VALUE=DATE:20230109
DTSTAMP:20260424T084458
CREATED:20220930T184324Z
LAST-MODIFIED:20230103T184107Z
UID:10235-1672981200-1673153999@education.delaware.gov
SUMMARY:Battle at the Bridge Invitational Tournament (MD)
DESCRIPTION:DIAA Invited Schools: \nMiddletown High School \nSt. Georges Tech High School \nConcord High School \n  \nposted 9/30/22
URL:https://education.delaware.gov/diaa/event/battle-at-the-bridge-invitational-tournament-md/
LOCATION:Bohemia Manor High School
CATEGORIES:Sanctioned Events,Wrestling
END:VEVENT
BEGIN:VEVENT
DTSTART;VALUE=DATE:20230106
DTEND;VALUE=DATE:20230109
DTSTAMP:20260424T084458
CREATED:20221214T185730Z
LAST-MODIFIED:20221214T185746Z
UID:10703-1672981200-1673153999@education.delaware.gov
SUMMARY:Delcastle Invitational - Wrestling (DE)
DESCRIPTION:DIAA Invited Schools: \nAI duPont \nAppoquinimink \nArchmere \nCaesar Rodney \nConrad \nCharter Wilmington \nConcord \nCape \nDMA \nFirst State Military \nHodgson \nMcKean \nMiddletown \nNewark Charter \nNewark \nPolytech \nRed Lion \nSt. Mark’s \nSalesianum \nSanford \nSt. Andrews \nSt. Elizabeth \nSt. Georges \nSussex Tech \nTower Hill \nWilliam Penn \nWilmington Firends \nDelcastle \n  \nposted 12/14/22
URL:https://education.delaware.gov/diaa/event/delcastle-invitational-wrestling-de-2/
LOCATION:DE
CATEGORIES:Sanctioned Events,Wrestling
END:VEVENT
BEGIN:VEVENT
DTSTART;VALUE=DATE:20230106
DTEND;VALUE=DATE:20230109
DTSTAMP:20260424T084458
CREATED:20221216T164817Z
LAST-MODIFIED:20221216T164817Z
UID:10706-1672981200-1673153999@education.delaware.gov
SUMMARY:Virginia Beach Relays - Indoor Track (VA) NFHS
DESCRIPTION:DIAA Invited Schools: \n  \nDover \nMiddletown \n  \nposted 12/16/22
URL:https://education.delaware.gov/diaa/event/virginia-beach-relays-indoor-track-va-nfhs/
LOCATION:DE
CATEGORIES:Indoor Track,Sanctioned Events
END:VEVENT
BEGIN:VEVENT
DTSTART;VALUE=DATE:20230106
DTEND;VALUE=DATE:20230109
DTSTAMP:20260424T084458
CREATED:20221221T223812Z
LAST-MODIFIED:20221221T223812Z
UID:10730-1672981200-1673153999@education.delaware.gov
SUMMARY:US Air Force Hispanic Games - Indoor Track (NY) NFHS
DESCRIPTION:DIAA Invited Schools: \n\n\nAI duPont\n50 Hillside Rd\, Wilmington\, DE 19807-2297\nVarsity\nComment\n\n\n\n\nAppoquinimink\n1080 Bunker Hill Road\, Middletown\, DE 19709\nVarsity\nComment\n\n\n\n\nArchmere Academy\n3600 Philadelphiapike\, Claymont\, DE 19703-3108\nVarsity\nComment\n\n\n\n\nCaesar Rodney\n239 Old North Rd\, Camden Wyoming\, DE 19934-1248\nVarsity\nComment\n\n\n\n\nCape Henlopen\n1250 Kings Hwy\, Lewes\, DE 19958-1798\nVarsity\nComment\n\n\n\n\nCaravel Academy\n2801 Del Laws Rd\, Bear\, DE 19701-1799\nVarsity\nComment\n\n\n\n\nCharter School of Wilmington\n100 North DuPont Road\, Wilmington\, DE 19807\nVarsity\nComment\n\n\n\n\nConcord\n2501 Ebright Rd\, Wilmington\, DE 19810-1198\nVarsity\nComment\n\n\n\n\nConrad Schools of Science\n201 Jackson Ave.\, Wilmington\, DE 19804\nVarsity\nComment\n\n\n\n\nDelaware Military Academy\n112 Middleboro Rd\, Wilmington\, DE 19804\nVarsity\nComment\n\n\n\n\nDelcastle Vo-Tech\n1417 Newport Rd\, Wilmington\, DE 19804-3499\nVarsity\nComment\n\n\n\n\nDover\nOne Dover High Drive\, Dover\, DE 19904-2468\nVarsity\nComment\n\n\n\n\nGlasgow\n1901 S College Ave\, Newark\, DE 19702\nVarsity\nComment\n\n\n\n\nHoward Of Technology\n401 E 12TH St\, Wilmington\, DE 19801-3403\nVarsity\nComment\n\n\n\n\nMiddletown\n120 Silver Lake Rd\, Middletown\, DE 19709-1297\nVarsity\nComment\n\n\n\n\nMt. Pleasant\n5201 Washington Street Ext\, Wilmington\, DE 19809\nVarsity\nComment\n\n\n\n\nNewark\n750 E Delaware Ave\, Newark\, DE 19711\nVarsity\nComment\n\n\n\n\nOdessa\n570 Tony Marchio Dr\, Townsend\, DE 19734\nVarsity\nComment\n\n\n\n\nPadua\n905 N Broom St\, Wilmington\, DE 19806\nVarsity\nComment\n\n\n\n\nSalesianum\n1801 N Broom St\, Wilmington\, DE 19802-3891\nVarsity\nComment\n\n\n\n\nSt Georges Technical\n555 Hyetts Corner Road\, Middletown\, DE 19709\nVarsity\nComment\n\n\n\n\nSt. Mark’s\n2501 Pike Creek Rd\, Wilmington\, DE 19808-3600\nVarsity\nComment\n\n\n\n\nSussex Tech\n17099 County Seat Hwy\, Georgetown\, DE 19947-0351\nVarsity\nComment\n\n\n\n\nTatnall\n1501 Barley Mill Rd\, Wilmington\, DE 19807-2299\nVarsity\nComment\n\n\n\n\nThomas Mckean\n301 Mckennans Church Rd\, Wilmington\, DE 19808-1398\nVarsity\nComment\n\n\n\n\nUrsuline Academy (DE)\n1106 Pennsylvania Avenue\, Wilmington\, DE 19806-4398\nVarsity\nComment\n\n\n\n\nWilliam Penn\n713 E Basin Rd\, New Castle\, DE 19720-4295\nVarsity\nComment\n\n\n\n\nWilmington Christian\n825 Loveville Rd\, Hockessin\, DE 19707-9508\nVarsity\n\n\n\n\nposted 12/21/22
URL:https://education.delaware.gov/diaa/event/us-air-force-hispanic-games-indoor-track-ny-nfhs-2/
LOCATION:DE
CATEGORIES:Indoor Track,Sanctioned Events
END:VEVENT
BEGIN:VEVENT
DTSTART;VALUE=DATE:20230107
DTEND;VALUE=DATE:20230109
DTSTAMP:20260424T084458
CREATED:20220907T055634Z
LAST-MODIFIED:20220907T055634Z
UID:9935-1673067600-1673153999@education.delaware.gov
SUMMARY:CNU's HS Showcase - Indoor Track (VA) NFHS
DESCRIPTION:DIAA Invited Schools: complete list of schools visit www.nfhs.org/sanctioning \nCape Henlopen High School \n  \nposted 9/7/22
URL:https://education.delaware.gov/diaa/event/cnus-hs-showcase-indoor-track-va-nfhs-2/
LOCATION:DE
CATEGORIES:Indoor Track,Sanctioned Events
END:VEVENT
BEGIN:VEVENT
DTSTART;VALUE=DATE:20230107
DTEND;VALUE=DATE:20230109
DTSTAMP:20260424T084458
CREATED:20221221T221440Z
LAST-MODIFIED:20221221T221440Z
UID:10724-1673067600-1673153999@education.delaware.gov
SUMMARY:Kevin Dare Invitational - Indoor Track (PA) NFHS
DESCRIPTION:DIAA Invited Schools: \nConcord High School \n  \nposted 12/21/22
URL:https://education.delaware.gov/diaa/event/kevin-dare-invitational-indoor-track-pa-nfhs/
LOCATION:DE
CATEGORIES:Indoor Track,Sanctioned Events
END:VEVENT
BEGIN:VEVENT
DTSTART;VALUE=DATE:20230107
DTEND;VALUE=DATE:20230109
DTSTAMP:20260424T084458
CREATED:20221221T222443Z
LAST-MODIFIED:20221221T222443Z
UID:10726-1673067600-1673153999@education.delaware.gov
SUMMARY:Ocean Breeze Freedom Games - Indoor Track (NY) NFHS
DESCRIPTION:DIAA Invited Schools: \n\n\nArchmere Academy\n3600 Philadelphia Pike\, Claymont\, DE 19703\nVarsity\nComment\n\n\n\n\nNewark High School\n750 East Delaware Avenue\, Newark\, DE 19711\nVarsity\nComment\n\n\n\n\nPadua Academy\n905 N. Broom Street\, Wilmington\, DE 19806\nVarsity\nComment\n\n\n\n\nSalesianum School\n1801 N. Broom St.\, Wilmington\, DE 19802\nVarsity\nComment\n\n\n\n\nSalesianum School\n1801 N. Broom St.\, Wilmington\, DE 19802\nVarsity\nComment\n\n\n\n\nSt. Mark’s High School\n2501 Pike Creek Road\, Wilmington\, DE 19808\nVarsity\nComment\n\n\n\n\nTatnall\n1501 Barley Mill Road\, Wilmington\, DE 19807\nVarsity\n\n\nposted 12/21/22
URL:https://education.delaware.gov/diaa/event/ocean-breeze-freedom-games-indoor-track-ny-nfhs-2/
LOCATION:DE
CATEGORIES:Indoor Track,Sanctioned Events
END:VEVENT
BEGIN:VEVENT
DTSTART;VALUE=DATE:20230107
DTEND;VALUE=DATE:20230109
DTSTAMP:20260424T084458
CREATED:20230104T210957Z
LAST-MODIFIED:20230104T210957Z
UID:10751-1673067600-1673153999@education.delaware.gov
SUMMARY:Golden Wolves Challenge - Indoor Track (PA) NFHS
DESCRIPTION:DIAA Invited Schools: \n\n\nChristiana High School\n190 Salem Church Rd\, Newark\, DE 19713\nVarsity\n\n\n\n\n\nConrad School of Science\n201 Jackson Ave\, Wilmington\, DE 19804\nVarsity\n\n\n\n\n\nDover High School\n1 Dover High Dr\, Dover\, DE 19904\nVarsity\n\n\n\n\n\nGlasgow High School\n1901 S College Ave\, Newark\, DE 19702\nVarsity\n\n\n\nposted 1/4/23
URL:https://education.delaware.gov/diaa/event/golden-wolves-challenge-indoor-track-pa-nfhs/
LOCATION:DE
CATEGORIES:Indoor Track,Sanctioned Events
END:VEVENT
BEGIN:VEVENT
DTSTART;VALUE=DATE:20230108
DTEND;VALUE=DATE:20230110
DTSTAMP:20260424T084458
CREATED:20221201T035756Z
LAST-MODIFIED:20221201T035756Z
UID:10568-1673154000-1673240399@education.delaware.gov
SUMMARY:Collegeville High School Invitational - Indoor Track (PA)
DESCRIPTION:DIAA Invited Schools: \nAI duPont \nAppoquinimink \nBrandywine \nCape \nCharter Wilmington \nDMA \nGlasgow \nMcKean \nPadua \nSmyrna \nUrsuline \nposted 11/30/22
URL:https://education.delaware.gov/diaa/event/collegeville-high-school-invitational-indoor-track-pa/
LOCATION:DE
CATEGORIES:Indoor Track,Sanctioned Events
END:VEVENT
BEGIN:VEVENT
DTSTART;VALUE=DATE:20230108
DTEND;VALUE=DATE:20230110
DTSTAMP:20260424T084458
CREATED:20221216T165319Z
LAST-MODIFIED:20221216T165319Z
UID:10707-1673154000-1673240399@education.delaware.gov
SUMMARY:Blue Star High School Invitational - Girls Basketball (PA) NFHS
DESCRIPTION:DIAA Invited Schools: \nSanford \nUrsuline \n  \nposted 12/16/22
URL:https://education.delaware.gov/diaa/event/blue-star-high-school-invitational-girls-basketball-pa-nfhs/
LOCATION:DE
CATEGORIES:Girls Basketball,Sanctioned Events
END:VEVENT
BEGIN:VEVENT
DTSTART;VALUE=DATE:20230111
DTEND;VALUE=DATE:20230113
DTSTAMP:20260424T084458
CREATED:20221221T221921Z
LAST-MODIFIED:20221221T221921Z
UID:10725-1673413200-1673499599@education.delaware.gov
SUMMARY:Millrose Games Trials - Indoor Track (NY) NFHS
DESCRIPTION:DIAA Invited Schools: \n\n\nAI duPont\n50 Hillside Rd\, Wilmington\, DE 19807-2297\nVarsity\n\n\n\n\n\nAppoquinimink\n1080 Bunker Hill Road\, Middletown\, DE 19709\nVarsity\n\n\n\n\n\nArchmere Academy\n3600 Philadelphiapike\, Claymont\, DE 19703-3108\nVarsity\n\n\n\n\n\nCaesar Rodney\n239 Old North Rd\, Camden Wyoming\, DE 19934-1248\nVarsity\n\n\n\n\n\nCape Henlopen\n1250 Kings Hwy\, Lewes\, DE 19958-1798\nVarsity\n\n\n\n\n\nCaravel Academy\n2801 Del Laws Rd\, Bear\, DE 19701-1799\nVarsity\n\n\n\n\n\nCharter School of Wilmington\n100 North DuPont Road\, Wilmington\, DE 19807\nVarsity\n\n\n\n\n\nConcord\n2501 Ebright Rd\, Wilmington\, DE 19810-1198\nVarsity\n\n\n\n\n\nConrad Schools of Science\n201 Jackson Ave.\, Wilmington\, DE 19804\nVarsity\n\n\n\n\n\nDelaware Military Academy\n112 Middleboro Rd\, Wilmington\, DE 19804\nVarsity\n\n\n\n\n\nDelcastle Vo-Tech\n1417 Newport Rd\, Wilmington\, DE 19804-3499\nVarsity\n\n\n\n\n\nDover\nOne Dover High Drive\, Dover\, DE 19904-2468\nVarsity\n\n\n\n\n\nGlasgow\n1901 S College Ave\, Newark\, DE 19702\nVarsity\n\n\n\n\n\nHoward Of Technology\n401 E 12TH St\, Wilmington\, DE 19801-3403\nVarsity\n\n\n\n\n\nMiddletown\n120 Silver Lake Rd\, Middletown\, DE 19709-1297\nVarsity\n\n\n\n\n\nMt. Pleasant\n5201 Washington Street Ext\, Wilmington\, DE 19809\nVarsity\n\n\n\n\n\nNewark\n750 E Delaware Ave\, Newark\, DE 19711\nVarsity\n\n\n\n\n\nOdessa\n570 Tony Marchio Dr\, Townsend\, DE 19734\nVarsity\n\n\n\n\n\nPadua\n905 N Broom St\, Wilmington\, DE 19806\nVarsity\n\n\n\n\n\nSalesianum\n1801 N Broom St\, Wilmington\, DE 19802-3891\nVarsity\n\n\n\n\n\nSt Georges Technical\n555 Hyetts Corner Road\, Middletown\, DE 19709\nVarsity\n\n\n\n\n\nSt. Mark’s\n2501 Pike Creek Rd\, Wilmington\, DE 19808-3600\nVarsity\n\n\n\n\n\nSussex Tech\n17099 County Seat Hwy\, Georgetown\, DE 19947-0351\nVarsity\n\n\n\n\n\nTatnall\n1501 Barley Mill Rd\, Wilmington\, DE 19807-2299\nVarsity\n\n\n\n\n\nThomas Mckean\n301 Mckennans Church Rd\, Wilmington\, DE 19808-1398\nVarsity\n\n\n\n\n\nUrsuline Academy (DE)\n1106 Pennsylvania Avenue\, Wilmington\, DE 19806-4398\nVarsity\n\n\n\n\n\nWilliam Penn\n713 E Basin Rd\, New Castle\, DE 19720-4295\nVarsity\n\n\n\n\n\nWilmington Christian\n825 Loveville Rd\, Hockessin\, DE 19707-9508\nVarsity\n\n\n\nposted 12/21/22
URL:https://education.delaware.gov/diaa/event/millrose-games-trials-indoor-track-ny-nfhs-2/
LOCATION:DE
CATEGORIES:Indoor Track,Sanctioned Events
END:VEVENT
BEGIN:VEVENT
DTSTART;TZID=America/New_York:20230111T200000
DTEND;TZID=America/New_York:20230111T230000
DTSTAMP:20260424T084458
CREATED:20221104T210857Z
LAST-MODIFIED:20221104T210857Z
UID:10447-1673467200-1673478000@education.delaware.gov
SUMMARY:MD - Bayside Conference Invitational - Indoor Track
DESCRIPTION:DIAA Invited Schools: \nCape \nSmyrna \nCaesar Rodney \nDover \nSeaford \nLake Forest \nSussex Academy \nMilford \nAppoquinimink \nSt. Georges \n  \nposted 11/4/22
URL:https://education.delaware.gov/diaa/event/md-bayside-conference-invitational-indoor-track-3/
LOCATION:Kent Island High School
CATEGORIES:Indoor Track,Sanctioned Events
END:VEVENT
BEGIN:VEVENT
DTSTART;VALUE=DATE:20230113
DTEND;VALUE=DATE:20230115
DTSTAMP:20260424T084458
CREATED:20221220T231715Z
LAST-MODIFIED:20221220T231715Z
UID:10711-1673586000-1673672399@education.delaware.gov
SUMMARY:DVGTCA Winter Series Meet #6 - Indoor Track (PA)
DESCRIPTION:DIAA Invited Schools: \nPadua \nposted 12/20/22
URL:https://education.delaware.gov/diaa/event/dvgtca-winter-series-meet-6-indoor-track-pa/
LOCATION:DE
CATEGORIES:Indoor Track,Sanctioned Events
END:VEVENT
BEGIN:VEVENT
DTSTART;VALUE=DATE:20230113
DTEND;VALUE=DATE:20230115
DTSTAMP:20260424T084458
CREATED:20221221T221138Z
LAST-MODIFIED:20221221T221138Z
UID:10723-1673586000-1673672399@education.delaware.gov
SUMMARY:Golden Bear Invitational - Indoor Track (PA) NFHS
DESCRIPTION:DIAA Invited Schools: \n\n\nAlexis I Dupont\n50 Hillside Rd\, Wilmington\, DE 19807\nVarsity\n\n\n\n\n\nAppoquinimink HS\n1080 Bunker Hill Rd\, Middletown\, DE 19709\nVarsity\n\n\n\n\n\nArchmere Academy\n3600 Phila Pike\, Claymont\, DE 19703\nVarsity\n\n\n\n\n\nBrandywine HS\n1400 Foulk Rd\, Wilmington\, DE 19803\nVarsity\n\n\n\n\n\nCaesar Rodney\n239 Old North Rd\, Camden\, DE 19934\nVarsity\n\n\n\n\n\nCape Henlopen High School\n1250 Kings Hwy\, Lewes\, DE 19958\nVarsity\n\n\n\n\n\nCaravel Academy\n2801 Del Laws Rd\, Bear\, DE 19701\nVarsity\n\n\n\n\n\nCharter School of Wilmington\n100 N. DuPont Rd.\, Wilmington\, DE 19805\nVarsity\n\n\n\n\n\nChristiana High School\n190 Salem Church Road\, Newark\, DE 19713\nVarsity\n\n\n\n\n\nConcord HS\n2501 Ebright Rd\, Wilmington\, DE 19810\nVarsity\n\n\n\n\n\nConrad\n201 Jackson Ave\, Wilmington\, DE 19804\nVarsity\n\n\n\n\n\nDelcastle\n1417 Newport Rd.\, Wilmington\, DE 19804\nVarsity\n\n\n\n\n\nDover HS\nOne Dover High Dr.\, Dover\, DE 19901\nVarsity\n\n\n\n\n\nGlasgow\n1901 S College Ave\, Newark\, DE 19072\nVarsity\n\n\n\n\n\nHodgson VO Tech\n\n\n\n\n2575 glasgon Ave\, Newark\, DE 19702\nVarsity\n\n\n\n\n\nHoward Vo Tech H S\n401 E 12th St\, Wilmington\, DE 19802\nVarsity\n\n\n\n\n\nJohn Dickinson\n1801 Milltown Rd\, Wilmington\, DE 19801\nVarsity\n\n\n\n\n\nMcKean HS\n301 McKennans Church Rd\, Wilmington\, DE 19808\nVarsity\n\n\n\n\n\nMiddletown HS\n120 Silver Lake Rd\, Middletown\, DE 19709\nVarsity\n\n\n\n\n\nMount Pleasant High School\n5201 Washington Street Extension\, Wilmington\, DE 19809\nVarsity\n\n\n\n\n\nNewark High School\n750 East Delaware Ave\, Newark\, DE 19711\nVarsity\n\n\n\n\n\nPadua Academy H S\n905 N Broom St\, Wilmington\, DE 19806\nVarsity\n\n\n\n\n\nRed Lion Chrisitian Academy\n1390 Red Lion Rd\, Bear\, DE 19701\nVarsity\n\n\n\n\n\nSalesianum HS\n1801 N Broom St.\, Wilmington\, DE 19802\nVarsity\n\n\n\n\n\nSanford HS\n6900 Lancaster Pike\, Hockessia\, DE 19707\nVarsity\n\n\n\n\n\nSeaford HS\n107 Delaware Ave.\, Bridgeville\, DE 19933\nVarsity\n\n\n\n\n\nSt. Georges Tech\n555 Hyetts Corner Rd\, Middletown\, DE 19709\nVarsity\nComment\n\n\n\n\nSt. Marks HS\n2501 Pike Creek Rd\, Wilmington\, DE 19808\nVarsity\n\n\n\n\n\nTatnall HS\n1501 Barley Mill Rd.\, Wilmington\, DE 19807\nVarsity\n\n\n\n\n\nTower Hill HS\n2813 W 17th St\, Wilmington\, DE 19806\nVarsity\n\n\n\n\n\nWilliam Penn HS\n713 East Basin Rd\, New Castle\, DE 19720\nVarsity\n\n\n\n\n\nWilmington Charter\n100 N Dupont Rd\, Wilmington\, DE 19807\nVarsity\n\n\n\n\n\nWilmington Christian School\n825 Loveville Rd\,\, Hockessin\, DE 19707\nVarsity\n\n\n\nposted 12/21/22
URL:https://education.delaware.gov/diaa/event/golden-bear-invitational-indoor-track-pa-nfhs-2/
LOCATION:DE
CATEGORIES:Indoor Track,Sanctioned Events
END:VEVENT
BEGIN:VEVENT
DTSTART;VALUE=DATE:20230113
DTEND;VALUE=DATE:20230115
DTSTAMP:20260424T084458
CREATED:20221221T222817Z
LAST-MODIFIED:20221221T222817Z
UID:10727-1673586000-1673672399@education.delaware.gov
SUMMARY:Steve Borbet Invitational - Indoor Track (NY) NFHS
DESCRIPTION:DIAA Invited Schools: \n\n\nAppoquinimink\n1080 Bunker Hill Road\, Middletown\, DE 19709\nVarsity\nComment\n\n\n\n\nArchmere Academy\n3600 Philadelphiapike\, Claymont\, DE 19703-3108\nVarsity\nComment\n\n\n\n\nCaesar Rodney\n239 Old North Rd\, Camden Wyoming\, DE 19934-1248\nVarsity\nComment\n\n\n\n\nCape Henlopen\n1250 Kings Hwy\, Lewes\, DE 19958-1798\nVarsity\nComment\n\n\n\n\nCaravel Academy\n2801 Del Laws Rd\, Bear\, DE 19701-1799\nVarsity\nComment\n\n\n\n\nCharter School of Wilmington\n100 North DuPont Road\, Wilmington\, DE 19807\nVarsity\nComment\n\n\n\n\nConcord\n2501 Ebright Rd\, Wilmington\, DE 19810-1198\nVarsity\nComment\n\n\n\n\nConrad Schools of Science\n201 Jackson Ave.\, Wilmington\, DE 19804\nVarsity\nComment\n\n\n\n\nDelaware Military Academy\n112 Middleboro Rd\, Wilmington\, DE 19804\nVarsity\nComment\n\n\n\n\nDelcastle Vo-Tech\n1417 Newport Rd\, Wilmington\, DE 19804-3499\nVarsity\nComment\n\n\n\n\nDover\nOne Dover High Drive\, Dover\, DE 19904-2468\nVarsity\nComment\n\n\n\n\nGlasgow\n1901 S College Ave\, Newark\, DE 19702\nVarsity\nComment\n\n\n\n\nHoward Of Technology\n401 E 12TH St\, Wilmington\, DE 19801-3403\nVarsity\nComment\n\n\n\n\nMiddletown\n120 Silver Lake Rd\, Middletown\, DE 19709-1297\nVarsity\nComment\n\n\n\n\nMt. Pleasant\n5201 Washington Street Ext\, Wilmington\, DE 19809\nVarsity\nComment\n\n\n\n\nNewark\n750 E Delaware Ave\, Newark\, DE 19711\nVarsity\nComment\n\n\n\n\nOdessa\n570 Tony Marchio Dr\, Townsend\, DE 19734\nVarsity\nComment\n\n\n\n\nPadua\n905 N Broom St\, Wilmington\, DE 19806\nVarsity\nComment\n\n\n\n\nSalesianum\n1801 N Broom St\, Wilmington\, DE 19802-3891\nVarsity\nComment\n\n\n\n\nSt Georges Technical\n555 Hyetts Corner Road\, Middletown\, DE 19709\nVarsity\nComment\n\n\n\n\nSt. Mark’s\n2501 Pike Creek Rd\, Wilmington\, DE 19808-3600\nVarsity\nComment\n\n\n\n\nSussex Tech\n17099 County Seat Hwy\, Georgetown\, DE 19947-0351\nVarsity\nComment\n\n\n\n\nTatnall\n1501 Barley Mill Rd\, Wilmington\, DE 19807-2299\nVarsity\nComment\n\n\n\n\nThomas Mckean\n301 Mckennans Church Rd\, Wilmington\, DE 19808-1398\nVarsity\nComment\n\n\n\n\nUrsuline Academy (DE)\n1106 Pennsylvania Avenue\, Wilmington\, DE 19806-4398\nVarsity\nComment\n\n\n\n\nWilliam Penn\n713 E Basin Rd\, New Castle\, DE 19720-4295\nVarsity\nComment\n\n\n\n\nWilmington Christian\n825 Loveville Rd\, Hockessin\, DE 19707-9508\nVarsity\n\n\n\nposted 12/21/22
URL:https://education.delaware.gov/diaa/event/steve-borbet-invitational-indoor-track-ny-nfhs-2/
LOCATION:DE
CATEGORIES:Indoor Track,Sanctioned Events
END:VEVENT
BEGIN:VEVENT
DTSTART;VALUE=DATE:20230113
DTEND;VALUE=DATE:20230116
DTSTAMP:20260424T084458
CREATED:20221213T161107Z
LAST-MODIFIED:20221213T161107Z
UID:10630-1673586000-1673758799@education.delaware.gov
SUMMARY:The PIT Wrestling Invitational (MD)
DESCRIPTION:DIAA Invited Schools: \nNewark Charter School \n  \nposted 12/13/22
URL:https://education.delaware.gov/diaa/event/the-pit-wrestling-invitational-md/
LOCATION:DE
CATEGORIES:Sanctioned Events,Wrestling
END:VEVENT
BEGIN:VEVENT
DTSTART;VALUE=DATE:20230113
DTEND;VALUE=DATE:20230116
DTSTAMP:20260424T084458
CREATED:20221221T223144Z
LAST-MODIFIED:20221221T223144Z
UID:10728-1673586000-1673758799@education.delaware.gov
SUMMARY:The VA Showcase - Indoor Track (VA) NFHS
DESCRIPTION:DIAA Invited Schools: \n\n\nCape Henlopen High School\n1250 Kings Highway\, Lewes\, DE 19958\nVarsity\n\n\n\n\n\nDover High School\n1 Dover High Drive\, Dover\, DE 19904\nVarsity\n\n\n\n\n\nMiddletown High School\n120 Silver Lake Road\, Middletown\, DE 19709\nVarsity\n\n\n\n\nposted 12/21/22
URL:https://education.delaware.gov/diaa/event/the-va-showcase-indoor-track-va-nfhs-2/
LOCATION:DE
CATEGORIES:Indoor Track,Sanctioned Events
END:VEVENT
BEGIN:VEVENT
DTSTART;VALUE=DATE:20230113
DTEND;VALUE=DATE:20230116
DTSTAMP:20260424T084458
CREATED:20221221T224213Z
LAST-MODIFIED:20221221T224213Z
UID:10731-1673586000-1673758799@education.delaware.gov
SUMMARY:Virginia Duals National Invitational Wrestling Tournament - Wrestling (VA) NFHS
DESCRIPTION:DIAA Invited School: \nDMA \n  \nposted 12/21/22
URL:https://education.delaware.gov/diaa/event/virginia-duals-national-invitational-wrestling-tournament-wrestling-va-nfhs/
LOCATION:DE
CATEGORIES:Sanctioned Events,Wrestling
END:VEVENT
BEGIN:VEVENT
DTSTART;VALUE=DATE:20230113
DTEND;VALUE=DATE:20230116
DTSTAMP:20260424T084458
CREATED:20221221T224454Z
LAST-MODIFIED:20221221T224516Z
UID:10732-1673586000-1673758799@education.delaware.gov
SUMMARY:War on the Shore - Wrestling (MD) NFHS
DESCRIPTION:DIAA Invited Schools: \nCaesar Rodney \nSt. Georges \nSussex Central \n  \nposted 12/21/22
URL:https://education.delaware.gov/diaa/event/war-on-the-shore-wrestling-md-nfhs-2/
LOCATION:DE
CATEGORIES:Sanctioned Events,Wrestling
END:VEVENT
BEGIN:VEVENT
DTSTART;VALUE=DATE:20230113
DTEND;VALUE=DATE:20230116
DTSTAMP:20260424T084458
CREATED:20230104T025324Z
LAST-MODIFIED:20230104T025324Z
UID:10748-1673586000-1673758799@education.delaware.gov
SUMMARY:Grapple at the Brook XXIV - Wrestling (MD)
DESCRIPTION:DIAA Invited Schools: \nCape Henlopen \nNewark Charter \n  \nposted 1/3/23
URL:https://education.delaware.gov/diaa/event/grapple-at-the-brook-xxiv-wrestling-md-2/
LOCATION:DE
CATEGORIES:Sanctioned Events,Wrestling
END:VEVENT
BEGIN:VEVENT
DTSTART;VALUE=DATE:20230113
DTEND;VALUE=DATE:20230116
DTSTAMP:20260424T084458
CREATED:20230104T210253Z
LAST-MODIFIED:20230104T210253Z
UID:10750-1673586000-1673758799@education.delaware.gov
SUMMARY:Cavalier Duals - Wrestling (MD)
DESCRIPTION:DIAA Invited Schools: \nSalesianum \nSt. Georges \n  \nposted 1/4/23
URL:https://education.delaware.gov/diaa/event/cavalier-duals-wrestling-md/
LOCATION:DE
CATEGORIES:Sanctioned Events,Wrestling
END:VEVENT
BEGIN:VEVENT
DTSTART;VALUE=DATE:20230113
DTEND;VALUE=DATE:20230116
DTSTAMP:20260424T084458
CREATED:20230106T054310Z
LAST-MODIFIED:20230106T054310Z
UID:10753-1673586000-1673758799@education.delaware.gov
SUMMARY:WCS Tournament - Boys Basketball (DE)
DESCRIPTION:Invited Schools: \nWilmington Christian \nRed Lion \nTri-State Christian (PA) \nThe Christian School (MD) \n  \nposted 1/6/23
URL:https://education.delaware.gov/diaa/event/wcs-tournament-boys-basketball-de-2/
LOCATION:DE
CATEGORIES:Boys Basketball,Sanctioned Events
END:VEVENT
BEGIN:VEVENT
DTSTART;VALUE=DATE:20230114
DTEND;VALUE=DATE:20230116
DTSTAMP:20260424T084458
CREATED:20221115T162323Z
LAST-MODIFIED:20221115T162323Z
UID:10502-1673672400-1673758799@education.delaware.gov
SUMMARY:Montgomery Invitational - Indoor Track (MD)
DESCRIPTION:DIAA Invited Schools: \nCape Henlopen \nDelcastle \n  \nposted 11/15/22
URL:https://education.delaware.gov/diaa/event/montgomery-invitational-indoor-track-md-2/
LOCATION:DE
CATEGORIES:Indoor Track,Sanctioned Events
END:VEVENT
BEGIN:VEVENT
DTSTART;VALUE=DATE:20230114
DTEND;VALUE=DATE:20230116
DTSTAMP:20260424T084458
CREATED:20221202T234413Z
LAST-MODIFIED:20221202T234413Z
UID:10578-1673672400-1673758799@education.delaware.gov
SUMMARY:THS Indoor Track Meets (DE)
DESCRIPTION:Invited Schools: \nArchmere \nCaravel \nConrad \nNewark Charter \nSaint Mark’s \nSanford \nSt. Andrew’s \nSt. Elizabeth \nTatnall \nUrsuline \nWilmington Christian \nWilmington Friends \nDelcastle \nChristiana \nGlasgow \nHodgson \nAI duPont \nNewark \n  \nposted 12/2/22
URL:https://education.delaware.gov/diaa/event/ths-indoor-track-meets-de-2/
LOCATION:Tower Hill School
CATEGORIES:Indoor Track,Sanctioned Events
END:VEVENT
BEGIN:VEVENT
DTSTART;VALUE=DATE:20230114
DTEND;VALUE=DATE:20230116
DTSTAMP:20260424T084458
CREATED:20230104T211451Z
LAST-MODIFIED:20230104T211611Z
UID:10752-1673672400-1673758799@education.delaware.gov
SUMMARY:Franklin & Marshall High School Meet #1 - Indoor Track (PA) NFHS
DESCRIPTION:DIAA Invited Schools: \n\n\nAI Dupont High School\n50 Hillside Rd\, Wilimington\, DE 19807\nJV\, Varsity\n\n\n\n\n\nSmyrna High School\n500 Duck Creek Pkwy\, Smyrna\, DE 19977\nJV\, Varsity\n\nMiddletown High School\n\n\n\n\n200 Schoolhouse Dr\, Middletown\, MD 21769\nJV\, Varsity\n\n\n\nposted 1/4/23
URL:https://education.delaware.gov/diaa/event/franklin-marshall-high-school-meet-1-indoor-track-pa-nfhs/
LOCATION:DE
CATEGORIES:Indoor Track,Sanctioned Events
END:VEVENT
BEGIN:VEVENT
DTSTART;VALUE=DATE:20230114
DTEND;VALUE=DATE:20230116
DTSTAMP:20260424T084458
CREATED:20230108T224145Z
LAST-MODIFIED:20230108T224145Z
UID:10756-1673672400-1673758799@education.delaware.gov
SUMMARY:CFS Wrestling Invitational (PA)
DESCRIPTION:DIAA Invited Schools: \nSt. Elizabeth \n  \nposted 1/8/23
URL:https://education.delaware.gov/diaa/event/cfs-wrestling-invitational-pa/
LOCATION:DE
CATEGORIES:Sanctioned Events,Wrestling
END:VEVENT
BEGIN:VEVENT
DTSTART;VALUE=DATE:20230114
DTEND;VALUE=DATE:20230117
DTSTAMP:20260424T084458
CREATED:20221221T220245Z
LAST-MODIFIED:20221221T220245Z
UID:10722-1673672400-1673845199@education.delaware.gov
SUMMARY:Escape the Rock - Wrestling (PA) NFHS
DESCRIPTION:DIAA Invited Schools: \nSanford \nCaravel \n  \nposted 12/21/22
URL:https://education.delaware.gov/diaa/event/escape-the-rock-wrestling-pa-nfhs-2/
LOCATION:DE
CATEGORIES:Sanctioned Events,Wrestling
END:VEVENT
END:VCALENDAR