
BEGIN:VCALENDAR
VERSION:2.0
PRODID:-//Delaware Interscholastic Athletic Association - ECPv6.15.3//NONSGML v1.0//EN
CALSCALE:GREGORIAN
METHOD:PUBLISH
X-ORIGINAL-URL:https://education.delaware.gov/diaa/
X-WR-CALDESC:Events for Delaware Interscholastic Athletic Association
REFRESH-INTERVAL;VALUE=DURATION:PT1H
X-Robots-Tag:noindex
X-PUBLISHED-TTL:PT1H
BEGIN:VTIMEZONE
TZID:America/New_York
BEGIN:DAYLIGHT
TZOFFSETFROM:-0500
TZOFFSETTO:-0400
TZNAME:EDT
DTSTART:20220313T070000
END:DAYLIGHT
BEGIN:STANDARD
TZOFFSETFROM:-0400
TZOFFSETTO:-0500
TZNAME:EST
DTSTART:20221106T060000
END:STANDARD
BEGIN:DAYLIGHT
TZOFFSETFROM:-0500
TZOFFSETTO:-0400
TZNAME:EDT
DTSTART:20230312T070000
END:DAYLIGHT
BEGIN:STANDARD
TZOFFSETFROM:-0400
TZOFFSETTO:-0500
TZNAME:EST
DTSTART:20231105T060000
END:STANDARD
END:VTIMEZONE
BEGIN:VEVENT
DTSTART;VALUE=DATE:20221226
DTEND;VALUE=DATE:20221228
DTSTAMP:20260422T075142
CREATED:20221116T062201Z
LAST-MODIFIED:20221116T062201Z
UID:10531-1672030800-1672117199@education.delaware.gov
SUMMARY:North Shore High School Invitational - Indoor Track (NY)
DESCRIPTION:DIAA Invited Schools: \n\n\nAlexis I Dupont\n50 Hillside RD\, Wilmington\, DE 19807\nVarsity\, JV\n\n\n\n\n\nAppoquinimink\n1080 Bunker Hill Rd\, Middletown\, DE 19709\nVarsity\, JV\n\n\n\n\n\nArchmere Academy\n3600 Philadelphia Pike\, Claymont\, DE 19703\nVarsity\, JV\n\n\n\n\n\nCharter School of Wilmington\n100 N Dupont Road\, Wilmington\, DE 19807\nVarsity\, JV\n\n\n\n\n\nDelcastle\n147 Newport Rd\, Wilminghton\, DE 19804\nVarsity\, JV\n\n\n\n\n\nDover\none dover drive\, Dover\, DE 19904\nVarsity\, JV\n\n\n\n\n\nGlasgow\n1901 S. College\, Newark\, DE 19702\nVarsity\, JV\n\n\n\n\n\nHodgson Vo-Tech\n2575 Glasgow Ave\, Newark\, DE 19702\nVarsity\, JV\n\n\n\n\n\nHoward Tech\n401 East 12th St\, Wilmington\, DE 19801\nVarsity\, JV\n\n\n\n\n\nMiddletown\n120 Silver Lake Rd\, Middletown\, DE 19709\nVarsity\, JV\n\n\n\n\n\nSalesianum Schools\n1801 N Broom St\, Wilmington\, DE 19802\nVarsity\, JV\n\n\n\n\n\nSt. Georges Tech\n555 Hyetts Corner Rd\, Middletown\, DE 19709\nVarsity\, JV\n\n\n\n\n\nSussex Technical H.S.\n17099 County Seat HWY\, Georgetown\, DE 19947\n\n\n\n\n\nTatnall\n1501 Barley Mill Rd\, Wilmington\, DE 19807\nVarsity\, JV\n\n\n\n\n\nWilliam Penn\n713 East Basin Rd\, New Castle\, DE 19720\nVarsity\, JV
URL:https://education.delaware.gov/diaa/event/north-shore-high-school-invitational-indoor-track-ny/
LOCATION:DE
CATEGORIES:Indoor Track,Sanctioned Events
END:VEVENT
BEGIN:VEVENT
DTSTART;VALUE=DATE:20221226
DTEND;VALUE=DATE:20221231
DTSTAMP:20260422T075142
CREATED:20221018T020540Z
LAST-MODIFIED:20221018T020717Z
UID:10303-1672030800-1672376399@education.delaware.gov
SUMMARY:Hoophall East - Slam Dunk to the Beach (DE) - Basketball - NFHS
DESCRIPTION:Invited schools – visit www.nfhs.org/sanctioning for a complete list of invited schools (shot clock use approved for this event) \nDIAA invited schools: \n\n\nCape Henlopen HS (Boys)\n1250 Kings Hwy\, Lewes\, DE 19958\nVarsity\n\n\n\n\n\nCape Henlopen HS (Girls)\n1250 Kings Hwy\, Lewes\, DE 19958\nVarsity\n\n\n\n\n\nSanford School (Girls)\n6900 Lancaster Pike\, Hockessin\, DE 19707\nVarsity\n\n\n\n\n\nSeaford HS (Boys)\n399 North Market St\, Seaford\, DE 19973\nVarsity\n\n\n\n\nposted 10/17/22
URL:https://education.delaware.gov/diaa/event/hoophall-east-slam-dunk-to-the-beach-de-basketball-nfhs/
LOCATION:Cape Henlopen HS
CATEGORIES:Boys Basketball,Girls Basketball,Sanctioned Events
END:VEVENT
BEGIN:VEVENT
DTSTART;VALUE=DATE:20221226
DTEND;VALUE=DATE:20230101
DTSTAMP:20260422T075142
CREATED:20221201T050816Z
LAST-MODIFIED:20221201T050816Z
UID:10572-1672030800-1672462799@education.delaware.gov
SUMMARY:Governors Challenge Basketball Tournament (MD) NFHS
DESCRIPTION:DIAA Invited Schools: \n\n\nCaesar Rodney\n239 Old North Rd\, Camden\, DE 19934\nVarsity\n\n\n\n\n\nCape Henlopen\n1250 Kings Hwy\, Lewes\, DE 19958\nVarsity\n\n\n\n\n\nCaravel\n2801 Del Laws Rd\, Bear\, DE 19701\nVarsity\n\n\n\n\n\nDelaware Military\n112 Middleboro Rd\, Wilmington\, DE 19804\nVarsity\n\n\n\n\n\nDelmar\n\n\n\n\n200 N 8th St.\, Delmar\, DE 19940\nVarsity\n\n\n\n\n\nDover\n\n\n\n\n1 Dover High Dr\, Dover\, DE 19904\nVarsity\n\n\n\n\n\nLaurel\n1133 S Central Ave\, Laurel\, DE 19956\nVarsity\n\n\n\n\n\nMiddletown\n120 Silver Lake Rd\, Middletown\, DE 19709\nVarsity\n\n\n\n\n\nPolytech\n823 Walnut Shade Rd\, Woodside\, DE 19980\nVarsity\n\n\n\n\n\nSanford\n6900 Lancaster Pike\, Hockessin\, DE 19707\nVarsity\n\n\n\n\n\nSanford\n6900 Lancaster Pike\, Hockessin\, DE 19707\nVarsity\n\n\n\n\n\nSeaford\n6900 Lancaster Pike\, Hockessin\, DE 19707\nVarsity\n\n\n\n\n\n\n\n\nSmyrna\n\n\n\n\n500 Duck Creek Pkwy\, Smyrna\, DE 19977\nVarsity\n\n\n\n\n\nSt Georges\n555 Hyett’s Corner Rd\, Middletown\, DE 19709\nVarsity\n\n\n\n\n\nSussex Central\n26026 Patriots Way\, Georgetown\, DE 19947\nVarsity\n\n\n\n\n\nSussex Tech\n17099 County Seat Hwy\, Georgetown\, DE 19947\nVarsity\n\n\n\n\n\nSussex Tech\n17099 County Seat Hwy\, Georgetown\, DE 19947\nVarsity\n\n\n\n\n\nWoodbridge\n307 S Laws St\, Bridgeville\, DE 19933\nVarsity\n\nposted 11/30/22
URL:https://education.delaware.gov/diaa/event/governors-challenge-basketball-tournament-md-nfhs/
LOCATION:DE
CATEGORIES:Boys Basketball,Girls Basketball,Sanctioned Events
END:VEVENT
BEGIN:VEVENT
DTSTART;VALUE=DATE:20221226
DTEND;VALUE=DATE:20230202
DTSTAMP:20260422T075142
CREATED:20221116T053920Z
LAST-MODIFIED:20221116T053920Z
UID:10513-1672030800-1675227599@education.delaware.gov
SUMMARY:Boardwalk Basketball Classic (NJ) - NFHS
DESCRIPTION:DIAA Invited Schools: \nAppoquinimink \nGreat Oak Charter \nLaurel \n  \n  \nposted 11/16/22
URL:https://education.delaware.gov/diaa/event/boardwalk-basketball-classic-nj-nfhs/
LOCATION:DE
CATEGORIES:Boys Basketball,Girls Basketball,Sanctioned Events
END:VEVENT
END:VCALENDAR