
BEGIN:VCALENDAR
VERSION:2.0
PRODID:-//Delaware Interscholastic Athletic Association - ECPv6.15.3//NONSGML v1.0//EN
CALSCALE:GREGORIAN
METHOD:PUBLISH
X-ORIGINAL-URL:https://education.delaware.gov/diaa/
X-WR-CALDESC:Events for Delaware Interscholastic Athletic Association
REFRESH-INTERVAL;VALUE=DURATION:PT1H
X-Robots-Tag:noindex
X-PUBLISHED-TTL:PT1H
BEGIN:VTIMEZONE
TZID:America/New_York
BEGIN:DAYLIGHT
TZOFFSETFROM:-0500
TZOFFSETTO:-0400
TZNAME:EDT
DTSTART:20220313T070000
END:DAYLIGHT
BEGIN:STANDARD
TZOFFSETFROM:-0400
TZOFFSETTO:-0500
TZNAME:EST
DTSTART:20221106T060000
END:STANDARD
END:VTIMEZONE
BEGIN:VEVENT
DTSTART;VALUE=DATE:20220930
DTEND;VALUE=DATE:20221002
DTSTAMP:20260424T113303
CREATED:20220811T050001Z
LAST-MODIFIED:20220811T050001Z
UID:9786-1664510400-1664596799@education.delaware.gov
SUMMARY:Lehigh University Paul Short Run - Cross Country (PA) - NFHS
DESCRIPTION:Invited Schools – visit www.nfhs.org/sanctioning for a complete list of invited schools \n\n\nAppoquinimink\n1080 Bunker Hill Road\, Middletown\, DE 19709\nJV\, Varsity\n\n\n\n\n\nCaesar Rodney HS\n239 Old North Road\, Camden\, DE 19934\nJV\, Varsity\n\n\n\n\n\nCharter School of Wilmington\n100 N. DuPont Rd\, WILMINGTON\, DE 19807\nJV\, Varsity\n\n\n\n\n\nNewark High\n750 E. Delaware Ave.\, Newark\, DE 19711\nJV\, Varsity\n\n\n\n\n\nTatnall\n1501 Barley Mill Road\, Wilmington\, DE 19807\nJV\, Varsity\n\n\n\n\n\nWilmington Charter\n100 N. DuPont Rd\, Wilmington\, DE 19807\nJV\, Varsity\n\n\n\n\n\nWilmington Christian\n825 Loveville Road\, Hockessin\, DE 19707\nJV\, Varsity\n\n\n\nposted 8/11/22
URL:https://education.delaware.gov/diaa/event/lehigh-university-paul-short-run-cross-country-pa-nfhs/
LOCATION:DE
CATEGORIES:Cross Country,Sanctioned Events
END:VEVENT
END:VCALENDAR