BEGIN:VCALENDAR
VERSION:2.0
PRODID:-//Delaware Interscholastic Athletic Association - ECPv5.9.0//NONSGML v1.0//EN
CALSCALE:GREGORIAN
METHOD:PUBLISH
X-WR-CALNAME:Delaware Interscholastic Athletic Association
X-ORIGINAL-URL:https://education.delaware.gov/diaa
X-WR-CALDESC:Events for Delaware Interscholastic Athletic Association
BEGIN:VTIMEZONE
TZID:UTC
BEGIN:STANDARD
TZOFFSETFROM:+0000
TZOFFSETTO:+0000
TZNAME:UTC
DTSTART:20210101T000000
END:STANDARD
END:VTIMEZONE
BEGIN:VEVENT
DTSTART;VALUE=DATE:20211002
DTEND;VALUE=DATE:20211003
DTSTAMP:20211018T193340
CREATED:20210903T210150Z
LAST-MODIFIED:20210903T210150Z
UID:6850-1633132800-1633219199@education.delaware.gov
SUMMARY:The Fr. Beattie Salesianum Cross Country Invitational - NFHS Sanction
DESCRIPTION:Invited Schools – See NFHS Sanction Website
URL:https://education.delaware.gov/diaa/calendar/the-fr-beattie-salesianum-cross-country-invitational-nfhs-sanction/
CATEGORIES:Cross Country,Sanction Event
END:VEVENT
END:VCALENDAR