BEGIN:VCALENDAR
VERSION:2.0
PRODID:-//Delaware Interscholastic Athletic Association - ECPv5.9.0//NONSGML v1.0//EN
CALSCALE:GREGORIAN
METHOD:PUBLISH
X-WR-CALNAME:Delaware Interscholastic Athletic Association
X-ORIGINAL-URL:https://education.delaware.gov/diaa
X-WR-CALDESC:Events for Delaware Interscholastic Athletic Association
BEGIN:VTIMEZONE
TZID:UTC
BEGIN:STANDARD
TZOFFSETFROM:+0000
TZOFFSETTO:+0000
TZNAME:UTC
DTSTART:20210101T000000
END:STANDARD
END:VTIMEZONE
BEGIN:VEVENT
DTSTART;TZID=UTC:20211004T190000
DTEND;TZID=UTC:20211004T190500
DTSTAMP:20211016T230511
CREATED:20210805T143201Z
LAST-MODIFIED:20210929T032058Z
UID:5656-1633374000-1633374300@education.delaware.gov
SUMMARY:DIAA Baseball Committee Meeting
DESCRIPTION:DIAA Baseball Committee Meeting \nVIRTUAL \nAGENDA  \nMonday\, 10/4 – 7pm \n\n\n\nJoin from the meeting link\n\n\nhttps://de-doe.webex.com/de-doe/j.php?MTID=mf4b8436a785e8bac34a9516d5a299c1a\n\n\n\n\n\n\n\n\n\nJoin by meeting number\n\n\nMeeting number (access code): 2623 659 7096\n\n\nMeeting password: MMukBCbS394\n\n\n\n\n\n\nJoin by phone\n+1-415-655-0001 US Toll\nGlobal call-in numbers
URL:https://education.delaware.gov/diaa/calendar/diaa-baseball-committee-meeting-2-2/
CATEGORIES:Baseball,Committee Meeting,Meeting
ORGANIZER;CN="DIAA":MAILTO:diaa@doe.k12.de.us
END:VEVENT
END:VCALENDAR